Workbook

Sheet PDRB JATIM
A1: PRODUK DOMESTIK REGIONAL BRUTO ATAS DASAR HARGA KONSTAN 2010 PROVINSI JAWA TMUR 2011 -2020 (MILYAR RUPIAH ) | H1: PDRB SERI 2010 ATAS DASAR HARGA KONSTAN MENURUT LAPANGAN USAHA KABUPATEN TUBAN (JUTA RUPIAH), 2015-2019
A2: kategori | B2: sektor | C2: 2010 | D2: 2011 | E2: 2012 | F2: 2013 | G2: 2014 | H2: 2015 | I2: 2016 | J2: 2017 | K2: 2018 | L2: 2019 | M2: 2020
A3: A | B3: Pertanian | C3: 133504.56 | D3: 138870.09 | E3: 146002.57 | F3: 150463.72 | G3: 155783.96 | H3: 160889.4 | I3: 164760.4 | J3: 167360.57 | K3: 163861.48 | L3: 165665.39 | M3: 167303.71 | U3: a | V3: 167303.71 | X3: 167303.71 | Y3: a
A4: B | B4: Pertambangan, dan Penggalian | C4: 54020.53 | D4: 58140.33 | E4: 58287.95 | F4: 59049.99 | G4: 60826.35 | H4: 65707.01 | I4: 75024.9 | J4: 80636.38 | K4: 82556.79 | L4: 83770.52 | M4: 80286.71 | U4: b | V4: 80286.71 | X4: 80286.71 | Y4: b
A5: C | B5: Indusri Pengolahan | C5: 292708.39 | D5: 306072.36 | E5: 326681.77 | F5: 345794.56 | G5: 372316.29 | H5: 393272.95 | I5: 410741.3 | J5: 434114.16 | K5: 466908.04 | L5: 498875.23 | M5: 488594.41 | U5: c | V5: 488594.41 | X5: 488594.41 | Y5: c
A6: D | B6: Listrik, Gas, dan Air Bersih | C6: 5567.86 | D6: 5576.28 | E6: 5441.05 | F6: 5611.39 | G6: 5779.29 | H6: 5754.54 | I6: 5850.6 | J6: 6054.18 | K6: 6014.43 | L6: 6149.38 | M6: 6118.42 | U6: d | V6: 4451.89 | X6: =SUM(V6:V7) -> 6118.42 | Y6: d
A7: E | B7: Kontrksi | C7: 89693.03 | D7: 95157.73 | E7: 102250.92 | F7: 110485.45 | G7: 116498.23 | H7: 120688.27 | I7: 127334.6 | J7: 136136.39 | K7: 145140.2 | L7: 153689.59 | M7: 148652.44 | U7: e | V7: 1666.53 | X7: 148652.44 | Y7: e
A8: F | B8: Perdagangan, hotel dan Restoran | C8: 221851.92 | D8: 242438.69 | E8: 261034.9 | F8: 276931.01 | G8: 293033.61 | H8: 310671.7 | I8: 330524.6 | J8: 352415.59 | K8: 375646.3 | L8: 399549.34 | M8: 373339.03 | U8: f | V8: 148652.44 | X8: =SUM(V9,V11) -> 373339.03 | Y8: f
A9: G | B9: Pengangkutan dan Komunikasi | C9: 74630.64 | D9: 81281.49 | E9: 89827.9 | F9: 99555.16 | G9: 105616.86 | H9: 112535.63 | I9: 120324.64 | J9: 128534.51 | K9: 137128.67 | L9: 145542.04 | M9: 149672.81 | U9: g | V9: 289800.41 | X9: =SUM(V10,V12) -> 149672.81 | Y9: g
A10: H | B10: Keuangan, Persewaan, dan jasa Persusahan | C10: 46150.82 | D10: 49982.69 | E10: 54238.73 | F10: 59957.56 | G10: 64212.93 | H10: 68171.95 | I10: 72341.8 | J10: 74798.97 | K10: 78991.48 | L10: 82968.33 | M10: 83194.97 | U10: h | V10: 43060.26 | X10: =SUM(V13:V15) -> 83194.97 | Y10: h
A11: I | B11: Jasa-Jasa | C11: 72521.09 | D11: 76882.1 | E11: 80698.85 | F11: 84940.96 | G11: 88581.03 | H11: 93684.65 | I11: 98650.4 | J11: 102248.82 | K11: 107521.7 | L11: 113933.34 | M11: 113257.16 | U11: i | V11: 83538.62 | X11: =SUM(V16:V19) -> 113257.16 | Y11: i
A12: TOTAL | B12: PDRB | C12: =SUM(C3:C11) -> 990648.84 | D12: =SUM(D3:D11) -> 1054401.8 | E12: =SUM(E3:E11) -> 1124464.6 | F12: =SUM(F3:F11) -> 1192789.8 | G12: =SUM(G3:G11) -> 1262648.6 | H12: =SUM(H3:H11) -> 1331376.1 | I12: =SUM(I3:I11) -> 1405553.2 | J12: 1482299.6 | K12: 1563769.1 | L12: 1650143.2 | M12: =SUM(M3:N11) -> 1610419.7 | U12: j | V12: 106612.55
U13: k | V13: 41449.26 | Y13: =SUM(X3:X11) -> 1610419.7
U14: l | V14: 29565.69
U15: mn | V15: 12180.02
U16: o | V16: 34848.51
U17: p | V17: 45760
U18: q | V18: 12259.46
U19: rstu | V19: 20389.19
V20: =SUM(V3:V19) -> 1610419.7

Sheet PDRB PASURUAN
A2: kategori | B2: sektor | C2: 2010 | D2: 2011 | E2: 2012 | F2: 2013 | G2: 2014 | H2: 2015 | I2: 2016 | J2: 2017 | K2: 2018 | L2: 2019 | M2: 2020
A3: A | B3: Pertanian | C3: 4673628 | D3: 4902736.6 | E3: 5162465.8 | F3: 5290029.2 | G3: 5477455.9 | H3: 5651601.3 | I3: 5843579.5 | J3: 5906977.5 | K3: 5822119.9 | L3: 5869879.3 | M3: 5929355.9 | N3: a | O3: 5929.36 | P3: a | Q3: 5929.36 | S3: a | T3: 5929355.9 | U3: a | V3: 5929355.9
A4: B | B4: Pertambangan, dan Penggalian | C4: 430700.88 | D4: 443315.77 | E4: 447478.13 | F4: 454958.34 | G4: 462341.22 | H4: 469843.9 | I4: 479390 | J4: 498445.65 | K4: 510657.57 | L4: 517040.79 | M4: 478618.76 | N4: b | O4: 5929.36 | P4: b | Q4: 478.62 | S4: b | T4: 478618.76 | U4: b | V4: 478618.76
A5: C | B5: Indusri Pengolahan | C5: 34139309 | D5: 36476062 | E5: 39582279 | F5: 42449790 | G5: 45912719 | H5: 48892577 | I5: 51743163 | J5: 54696837 | K5: 58374044 | L5: 62147132 | M5: 61896361 | N5: c | O5: 61896.36 | P5: c | Q5: 61896.36 | S5: c | T5: 61896361 | U5: c | V5: 61896361
A6: D | B6: Listrik, Gas, dan Air Bersih | C6: 834217.61 | D6: 794334.86 | E6: 705896.8 | F6: 721832.38 | G6: 764314.8 | H6: 812273.07 | I6: 817132.42 | J6: 830379.87 | K6: 803348.48 | L6: 806546.73 | M6: 776351.9 | N6: d | O6: 738.42 | P6: d | Q6: =SUM(T6,T7) -> 776351.9 | S6: d | T6: 738418.3 | U6: d | V6: =SUM(T6:T7) -> 776351.9
A7: E | B7: Kontrksi | C7: 7827518.6 | D7: 8383350.7 | E7: 8986952 | F7: 9760375.2 | G7: 10280115 | H7: 10400009 | I7: 10608010 | J7: 11297530 | K7: 11896299 | L7: 12513907 | M7: 11894902 | N7: e | O7: 37.93 | P7: e | Q7: 11894.9 | S7: e | T7: 37933.6 | U7: e | V7: 11894902
A8: F | B8: Perdagangan, hotel dan Restoran | C8: 8147497.8 | D8: 8779846.8 | E8: 9354183.1 | F8: 9916862 | G8: 10450326 | H8: 11087605 | I8: 11920678 | J8: 12845617 | K8: 13681873 | L8: 14537988 | M8: 13048671 | N8: f | O8: 11894.9 | P8: f | Q8: =SUM(O9,O11) -> 13048.67 | S8: f | T8: 11894902 | U8: f | V8: =SUM(T9,T11) -> 13048671
A9: G | B9: Pengangkutan dan Komunikasi | C9: 2107333.1 | D9: 2286858 | E9: 2551481.9 | F9: 2850754.5 | G9: 3000016 | H9: 3151916.6 | I9: 3409893.6 | J9: 3693165 | K9: 3944161.9 | L9: 4226170 | M9: 4528174 | N9: g | O9: 9734.81 | P9: g | Q9: =SUM(O10,O12) -> 4528.18 | S9: g | T9: 9734811.4 | U9: g | V9: =SUM(T10,T12) -> 4528174.3
A10: H | B10: Keuangan, Persewaan, dan jasa Persusahan | C10: 919536.41 | D10: 1007954.3 | E10: 1102532.6 | F10: 1234758.5 | G10: 1311721.1 | H10: 1379579.2 | I10: 1473347.5 | J10: 1524334.8 | K10: 1587300.3 | L10: 1658640.5 | M10: 1674638 | N10: h | O10: 637.61 | P10: h | Q10: =SUM(O13:O15) -> 1674.63 | S10: h | T10: 637607.91 | U10: h | V10: =SUM(T13:T15) -> 1674638
A11: I | B11: Jasa-Jasa | C11: 2098602.5 | D11: 2197114.9 | E11: 2273805 | F11: 2364608.5 | G11: 2446364.1 | H11: 2570315.6 | I11: 2715984.7 | J11: 2808694.3 | K11: 2927573.6 | L11: 3073766.5 | M11: 2925725 | N11: i | O11: 3313.86 | P11: i | Q11: =SUM(O16:O19) -> 2925.72 | S11: i | T11: 3313859.2 | U11: i | V11: =SUM(T16:T19) -> 2925724.8
A12: TOTAL | B12: PDRB | C12: =SUM('PDRB PASURUAN'!C3:C11) -> 61178344 | D12: =SUM('PDRB PASURUAN'!D3:D11) -> 65271574 | E12: =SUM('PDRB PASURUAN'!E3:E11) -> 70167074 | F12: =SUM('PDRB PASURUAN'!F3:F11) -> 75043969 | G12: =SUM('PDRB PASURUAN'!G3:G11) -> 80105374 | H12: =SUM('PDRB PASURUAN'!H3:H11) -> 84415720 | I12: =SUM('PDRB PASURUAN'!I3:I11) -> 89011178 | J12: =SUM('PDRB PASURUAN'!J3:J11) -> 94101981 | ... L12: =SUM('PDRB PASURUAN'!L3:L11) -> 1.0535107e+08 | M12: =SUM(M3:M11) -> 1.031528e+08 | O12: 3890.57 | P12: j | Q12: =SUM(Q3:Q11) -> 878728.34 | S12: j | T12: 3890566.4 | V12: =SUM(V3:V11) -> 1.031528e+08
O13: 789.72 | P13: k | S13: k | T13: 789724.73
O14: 784.88 | P14: l | S14: l | T14: 784882.48
B15: non unggulan | C15: =SUM(C3,C4,C8,C9,C10,C11) -> 18377299 | D15: =SUM(D3,D4,D8,D9,D10,D11) -> 19617826 | E15: =SUM(E3,E4,E8,E9,E10,E11) -> 20891946 | F15: =SUM(F3,F4,F8,F9,F10,F11) -> 22111971 | G15: =SUM(G3,G4,G8,G9,G10,G11) -> 23148224 | H15: =SUM(H3,H4,H8,H9,H10,H11) -> 24310861 | I15: =SUM(I3,I4,I8,I9,I10,I11) -> 25842873 | J15: =SUM(J3,J4,J8,J9,J10,J11) -> 27277235 | ... M15: =SUM(M3,M4,M8,M9,M10,M11) -> 28585183 | O15: 100.03 | P15: mn | S15: mn | T15: 100030.78
B16: nggulan | C16: =SUM(C5:C7) -> 42801045 | D16: =SUM(D5:D7) -> 45653747 | E16: =SUM(E5:E7) -> 49275127 | F16: =SUM(F5:F7) -> 52931998 | G16: =SUM(G5:G7) -> 56957149 | H16: =SUM(H5:H7) -> 60104859 | I16: =SUM(I5:I7) -> 63168305 | J16: =SUM(J5:J7) -> 66824747 | ... M16: =SUM(M5:M7) -> 74567615 | O16: 1081.36 | P16: o | S16: o | T16: 1081359 | V16: =SUM(T16:T19) -> 2925724.8
O17: 732.24 | P17: p | S17: p | T17: 732240.03
O18: 185.99 | P18: q | S18: q | T18: 185991.97
O19: 926.13 | P19: rstu | S19: rstu | T19: 926133.79
T20: =SUM(T3:T19) -> 1.031528e+08

Sheet LQ
C1: TABEL UNGGULAN
A2: kategori | B2: sektor | C2: 2010 | D2: 2011 | E2: 2012 | F2: 2013 | G2: 2014 | H2: 2015 | I2: 2016 | J2: 2017 | K2: 2018 | L2: 2019 | M2: 2020 | N2: Rata-rata
A3: A | B3: Pertanian | C3: =('PDRB PASURUAN'!C3/'PDRB PASURUAN'!C$12)/('PDRB JATIM'!C3/'PDRB JATIM'!C$12) -> 0.56686555 | D3: =('PDRB PASURUAN'!D3/'PDRB PASURUAN'!D$12)/('PDRB JATIM'!D3/'PDRB JATIM'!D$12) -> 0.57031118 | E3: =('PDRB PASURUAN'!E3/'PDRB PASURUAN'!E$12)/('PDRB JATIM'!E3/'PDRB JATIM'!E$12) -> 0.56664247 | F3: =('PDRB PASURUAN'!F3/'PDRB PASURUAN'!F$12)/('PDRB JATIM'!F3/'PDRB JATIM'!F$12) -> 0.55882316 | G3: =('PDRB PASURUAN'!G3/'PDRB PASURUAN'!G$12)/('PDRB JATIM'!G3/'PDRB JATIM'!G$12) -> 0.55421335 | H3: =('PDRB PASURUAN'!H3/'PDRB PASURUAN'!H$12)/('PDRB JATIM'!H3/'PDRB JATIM'!H$12) -> 0.55401498 | I3: =('PDRB PASURUAN'!I3/'PDRB PASURUAN'!I$12)/('PDRB JATIM'!I3/'PDRB JATIM'!I$12) -> 0.56005267 | J3: =('PDRB PASURUAN'!J3/'PDRB PASURUAN'!J$12)/('PDRB JATIM'!J3/'PDRB JATIM'!J$12) -> 0.55596748 | ... M3: =('PDRB PASURUAN'!M3/'PDRB PASURUAN'!M$12)/('PDRB JATIM'!M3/'PDRB JATIM'!M$12) -> 0.55329914 | N3: =AVERAGE(C3:M3) -> 0.55939259
A4: B | B4: Pertambangan, dan Penggalian | C4: =('PDRB PASURUAN'!C4/'PDRB PASURUAN'!C$12)/('PDRB JATIM'!C4/'PDRB JATIM'!C$12) -> 0.12910378 | D4: =('PDRB PASURUAN'!D4/'PDRB PASURUAN'!D$12)/('PDRB JATIM'!D4/'PDRB JATIM'!D$12) -> 0.12317363 | E4: =('PDRB PASURUAN'!E4/'PDRB PASURUAN'!E$12)/('PDRB JATIM'!E4/'PDRB JATIM'!E$12) -> 0.12302843 | F4: =('PDRB PASURUAN'!F4/'PDRB PASURUAN'!F$12)/('PDRB JATIM'!F4/'PDRB JATIM'!F$12) -> 0.1224616 | G4: =('PDRB PASURUAN'!G4/'PDRB PASURUAN'!G$12)/('PDRB JATIM'!G4/'PDRB JATIM'!G$12) -> 0.11980962 | H4: =('PDRB PASURUAN'!H4/'PDRB PASURUAN'!H$12)/('PDRB JATIM'!H4/'PDRB JATIM'!H$12) -> 0.11277668 | I4: =('PDRB PASURUAN'!I4/'PDRB PASURUAN'!I$12)/('PDRB JATIM'!I4/'PDRB JATIM'!I$12) -> 0.10089887 | J4: =('PDRB PASURUAN'!J4/'PDRB PASURUAN'!J$12)/('PDRB JATIM'!J4/'PDRB JATIM'!J$12) -> 0.097369738 | ... M4: =('PDRB PASURUAN'!M4/'PDRB PASURUAN'!M$12)/('PDRB JATIM'!M4/'PDRB JATIM'!M$12) -> 0.093068799 | N4: =AVERAGE(C4:M4) -> 0.11050307
A5: C | B5: Indusri Pengolahan | C5: =('PDRB PASURUAN'!C5/'PDRB PASURUAN'!C$12)/('PDRB JATIM'!C5/'PDRB JATIM'!C$12) -> 1.8886069 | D5: =('PDRB PASURUAN'!D5/'PDRB PASURUAN'!D$12)/('PDRB JATIM'!D5/'PDRB JATIM'!D$12) -> 1.9251557 | E5: =('PDRB PASURUAN'!E5/'PDRB PASURUAN'!E$12)/('PDRB JATIM'!E5/'PDRB JATIM'!E$12) -> 1.9417277 | F5: =('PDRB PASURUAN'!F5/'PDRB PASURUAN'!F$12)/('PDRB JATIM'!F5/'PDRB JATIM'!F$12) -> 1.9512167 | G5: =('PDRB PASURUAN'!G5/'PDRB PASURUAN'!G$12)/('PDRB JATIM'!G5/'PDRB JATIM'!G$12) -> 1.9437563 | H5: =('PDRB PASURUAN'!H5/'PDRB PASURUAN'!H$12)/('PDRB JATIM'!H5/'PDRB JATIM'!H$12) -> 1.9607683 | I5: =('PDRB PASURUAN'!I5/'PDRB PASURUAN'!I$12)/('PDRB JATIM'!I5/'PDRB JATIM'!I$12) -> 1.9892408 | J5: =('PDRB PASURUAN'!J5/'PDRB PASURUAN'!J$12)/('PDRB JATIM'!J5/'PDRB JATIM'!J$12) -> 1.9847028 | ... M5: =('PDRB PASURUAN'!M5/'PDRB PASURUAN'!M$12)/('PDRB JATIM'!M5/'PDRB JATIM'!M$12) -> 1.977765 | N5: =AVERAGE(C5:M5) -> 1.9525581
A6: D | B6: Listrik, Gas, dan Air Bersih | C6: =('PDRB PASURUAN'!C6/'PDRB PASURUAN'!C$12)/('PDRB JATIM'!C6/'PDRB JATIM'!C$12) -> 2.4261244 | D6: =('PDRB PASURUAN'!D6/'PDRB PASURUAN'!D$12)/('PDRB JATIM'!D6/'PDRB JATIM'!D$12) -> 2.3011296 | E6: =('PDRB PASURUAN'!E6/'PDRB PASURUAN'!E$12)/('PDRB JATIM'!E6/'PDRB JATIM'!E$12) -> 2.0790787 | F6: =('PDRB PASURUAN'!F6/'PDRB PASURUAN'!F$12)/('PDRB JATIM'!F6/'PDRB JATIM'!F$12) -> 2.0446267 | G6: =('PDRB PASURUAN'!G6/'PDRB PASURUAN'!G$12)/('PDRB JATIM'!G6/'PDRB JATIM'!G$12) -> 2.0845802 | H6: =('PDRB PASURUAN'!H6/'PDRB PASURUAN'!H$12)/('PDRB JATIM'!H6/'PDRB JATIM'!H$12) -> 2.226224 | I6: =('PDRB PASURUAN'!I6/'PDRB PASURUAN'!I$12)/('PDRB JATIM'!I6/'PDRB JATIM'!I$12) -> 2.2054377 | J6: =('PDRB PASURUAN'!J6/'PDRB PASURUAN'!J$12)/('PDRB JATIM'!J6/'PDRB JATIM'!J$12) -> 2.160522 | ... M6: =('PDRB PASURUAN'!M6/'PDRB PASURUAN'!M$12)/('PDRB JATIM'!M6/'PDRB JATIM'!M$12) -> 1.9809677 | N6: =AVERAGE(C6:M6) -> 2.1510271
A7: E | B7: Kontrksi | C7: =('PDRB PASURUAN'!C7/'PDRB PASURUAN'!C$12)/('PDRB JATIM'!C7/'PDRB JATIM'!C$12) -> 1.4131473 | D7: =('PDRB PASURUAN'!D7/'PDRB PASURUAN'!D$12)/('PDRB JATIM'!D7/'PDRB JATIM'!D$12) -> 1.4231661 | E7: =('PDRB PASURUAN'!E7/'PDRB PASURUAN'!E$12)/('PDRB JATIM'!E7/'PDRB JATIM'!E$12) -> 1.4085025 | F7: =('PDRB PASURUAN'!F7/'PDRB PASURUAN'!F$12)/('PDRB JATIM'!F7/'PDRB JATIM'!F$12) -> 1.4041372 | G7: =('PDRB PASURUAN'!G7/'PDRB PASURUAN'!G$12)/('PDRB JATIM'!G7/'PDRB JATIM'!G$12) -> 1.3909115 | H7: =('PDRB PASURUAN'!H7/'PDRB PASURUAN'!H$12)/('PDRB JATIM'!H7/'PDRB JATIM'!H$12) -> 1.3590834 | I7: =('PDRB PASURUAN'!I7/'PDRB PASURUAN'!I$12)/('PDRB JATIM'!I7/'PDRB JATIM'!I$12) -> 1.3154981 | J7: =('PDRB PASURUAN'!J7/'PDRB PASURUAN'!J$12)/('PDRB JATIM'!J7/'PDRB JATIM'!J$12) -> 1.3072134 | ... M7: =('PDRB PASURUAN'!M7/'PDRB PASURUAN'!M$12)/('PDRB JATIM'!M7/'PDRB JATIM'!M$12) -> 1.2492429 | N7: =AVERAGE(C7:M7) -> 1.3485287
A8: F | B8: Perdagangan, hotel dan Restoran | C8: =('PDRB PASURUAN'!C8/'PDRB PASURUAN'!C$12)/('PDRB JATIM'!C8/'PDRB JATIM'!C$12) -> 0.59467965 | D8: =('PDRB PASURUAN'!D8/'PDRB PASURUAN'!D$12)/('PDRB JATIM'!D8/'PDRB JATIM'!D$12) -> 0.58501506 | E8: =('PDRB PASURUAN'!E8/'PDRB PASURUAN'!E$12)/('PDRB JATIM'!E8/'PDRB JATIM'!E$12) -> 0.57427476 | F8: =('PDRB PASURUAN'!F8/'PDRB PASURUAN'!F$12)/('PDRB JATIM'!F8/'PDRB JATIM'!F$12) -> 0.56918153 | G8: =('PDRB PASURUAN'!G8/'PDRB PASURUAN'!G$12)/('PDRB JATIM'!G8/'PDRB JATIM'!G$12) -> 0.56212544 | H8: =('PDRB PASURUAN'!H8/'PDRB PASURUAN'!H$12)/('PDRB JATIM'!H8/'PDRB JATIM'!H$12) -> 0.56287695 | I8: =('PDRB PASURUAN'!I8/'PDRB PASURUAN'!I$12)/('PDRB JATIM'!I8/'PDRB JATIM'!I$12) -> 0.56950812 | J8: =('PDRB PASURUAN'!J8/'PDRB PASURUAN'!J$12)/('PDRB JATIM'!J8/'PDRB JATIM'!J$12) -> 0.57416549 | ... M8: =('PDRB PASURUAN'!M8/'PDRB PASURUAN'!M$12)/('PDRB JATIM'!M8/'PDRB JATIM'!M$12) -> 0.54565852 | N8: =AVERAGE(C8:M8) -> 0.57086892
A9: G | B9: Pengangkutan dan Komunikasi | C9: =('PDRB PASURUAN'!C9/'PDRB PASURUAN'!C$12)/('PDRB JATIM'!C9/'PDRB JATIM'!C$12) -> 0.4572335 | D9: =('PDRB PASURUAN'!D9/'PDRB PASURUAN'!D$12)/('PDRB JATIM'!D9/'PDRB JATIM'!D$12) -> 0.4544955 | E9: =('PDRB PASURUAN'!E9/'PDRB PASURUAN'!E$12)/('PDRB JATIM'!E9/'PDRB JATIM'!E$12) -> 0.45519101 | F9: =('PDRB PASURUAN'!F9/'PDRB PASURUAN'!F$12)/('PDRB JATIM'!F9/'PDRB JATIM'!F$12) -> 0.45513912 | G9: =('PDRB PASURUAN'!G9/'PDRB PASURUAN'!G$12)/('PDRB JATIM'!G9/'PDRB JATIM'!G$12) -> 0.4477248 | H9: =('PDRB PASURUAN'!H9/'PDRB PASURUAN'!H$12)/('PDRB JATIM'!H9/'PDRB JATIM'!H$12) -> 0.44173529 | I9: =('PDRB PASURUAN'!I9/'PDRB PASURUAN'!I$12)/('PDRB JATIM'!I9/'PDRB JATIM'!I$12) -> 0.44749585 | J9: =('PDRB PASURUAN'!J9/'PDRB PASURUAN'!J$12)/('PDRB JATIM'!J9/'PDRB JATIM'!J$12) -> 0.4526017 | ... M9: =('PDRB PASURUAN'!M9/'PDRB PASURUAN'!M$12)/('PDRB JATIM'!M9/'PDRB JATIM'!M$12) -> 0.47232208 | N9: =AVERAGE(C9:M9) -> 0.4536895
A10: H | B10: Keuangan, Persewaan, dan jasa Persusahan | C10: =('PDRB PASURUAN'!C10/'PDRB PASURUAN'!C$12)/('PDRB JATIM'!C10/'PDRB JATIM'!C$12) -> 0.32263504 | D10: =('PDRB PASURUAN'!D10/'PDRB PASURUAN'!D$12)/('PDRB JATIM'!D10/'PDRB JATIM'!D$12) -> 0.32576413 | E10: =('PDRB PASURUAN'!E10/'PDRB PASURUAN'!E$12)/('PDRB JATIM'!E10/'PDRB JATIM'!E$12) -> 0.32575745 | F10: =('PDRB PASURUAN'!F10/'PDRB PASURUAN'!F$12)/('PDRB JATIM'!F10/'PDRB JATIM'!F$12) -> 0.32733029 | G10: =('PDRB PASURUAN'!G10/'PDRB PASURUAN'!G$12)/('PDRB JATIM'!G10/'PDRB JATIM'!G$12) -> 0.32198813 | H10: =('PDRB PASURUAN'!H10/'PDRB PASURUAN'!H$12)/('PDRB JATIM'!H10/'PDRB JATIM'!H$12) -> 0.31916726 | I10: =('PDRB PASURUAN'!I10/'PDRB PASURUAN'!I$12)/('PDRB JATIM'!I10/'PDRB JATIM'!I$12) -> 0.32160192 | J10: =('PDRB PASURUAN'!J10/'PDRB PASURUAN'!J$12)/('PDRB JATIM'!J10/'PDRB JATIM'!J$12) -> 0.3210125 | ... M10: =('PDRB PASURUAN'!M10/'PDRB PASURUAN'!M$12)/('PDRB JATIM'!M10/'PDRB JATIM'!M$12) -> 0.3142548 | N10: =AVERAGE(C10:M10) -> 0.32075469
A11: I | B11: Jasa-Jasa | C11: =('PDRB PASURUAN'!C11/'PDRB PASURUAN'!C$12)/('PDRB JATIM'!C11/'PDRB JATIM'!C$12) -> 0.46858445 | D11: =('PDRB PASURUAN'!D11/'PDRB PASURUAN'!D$12)/('PDRB JATIM'!D11/'PDRB JATIM'!D$12) -> 0.46164652 | E11: =('PDRB PASURUAN'!E11/'PDRB PASURUAN'!E$12)/('PDRB JATIM'!E11/'PDRB JATIM'!E$12) -> 0.45154216 | F11: =('PDRB PASURUAN'!F11/'PDRB PASURUAN'!F$12)/('PDRB JATIM'!F11/'PDRB JATIM'!F$12) -> 0.44247649 | G11: =('PDRB PASURUAN'!G11/'PDRB PASURUAN'!G$12)/('PDRB JATIM'!G11/'PDRB JATIM'!G$12) -> 0.43531257 | H11: =('PDRB PASURUAN'!H11/'PDRB PASURUAN'!H$12)/('PDRB JATIM'!H11/'PDRB JATIM'!H$12) -> 0.43270851 | I11: =('PDRB PASURUAN'!I11/'PDRB PASURUAN'!I$12)/('PDRB JATIM'!I11/'PDRB JATIM'!I$12) -> 0.43474163 | J11: =('PDRB PASURUAN'!J11/'PDRB PASURUAN'!J$12)/('PDRB JATIM'!J11/'PDRB JATIM'!J$12) -> 0.4326965 | ... M11: =('PDRB PASURUAN'!M11/'PDRB PASURUAN'!M$12)/('PDRB JATIM'!M11/'PDRB JATIM'!M$12) -> 0.40329783 | N11: =AVERAGE(C11:M11) -> 0.43757233
A13: kategori | B13: sektor | C13: 2010 | D13: 2011 | E13: 2012 | F13: 2013 | G13: 2014 | H13: 2015 | I13: 2016 | J13: 2017 | K13: 2018 | L13: 2019
A14: A | B14: Pertanian
A15: B | B15: Pertambangan, dan Penggalian
A16: C | B16: Indusri Pengolahan
A17: D | B17: Listrik, Gas, dan Air Bersih
A18: E | B18: Kontrksi
A19: F | B19: Perdagangan, hotel dan Restoran
A20: G | B20: Pengangkutan dan Komunikasi
A21: H | B21: Keuangan, Persewaan, dan jasa Persusahan
A22: I | B22: Jasa-Jasa

Sheet SS(PR)
A2: kategori | B2: sektor | C2: 2010 -2011 | D2: </> | E2: ∆Qij | F2: 2011 - 2012 | G2: </> | H2: ∆Qij
A3: A | B3: Pertanian | C3: ='PDRB PASURUAN'!C3*(('PDRB JATIM'!$D$12/'PDRB JATIM'!$C$12)-1) -> 300769.98 | D3: =IF(C3<E3,"<",">") -> > | E3: ='PDRB PASURUAN'!D3-'PDRB PASURUAN'!C3 -> 229108.55 | F3: ='PDRB PASURUAN'!D3*(('PDRB JATIM'!$E$12/'PDRB JATIM'!$D$12)-1) -> 325777 | G3: =IF(F3<H3,"<",">") -> > | H3: ='PDRB PASURUAN'!E3-'PDRB PASURUAN'!D3 -> 259729.22
A4: B | B4: Pertambangan, dan Penggalian | C4: ='PDRB PASURUAN'!C4*(('PDRB JATIM'!$D$12/'PDRB JATIM'!$C$12)-1) -> 27717.631 | D4: =IF(C4<E4,"<",">") -> > | E4: ='PDRB PASURUAN'!D4-'PDRB PASURUAN'!C4 -> 12614.884 | F4: ='PDRB PASURUAN'!D4*(('PDRB JATIM'!$E$12/'PDRB JATIM'!$D$12)-1) -> 29457.443 | G4: =IF(F4<H4,"<",">") -> > | H4: ='PDRB PASURUAN'!E4-'PDRB PASURUAN'!D4 -> 4162.3647
A5: C | B5: Indusri Pengolahan | C5: ='PDRB PASURUAN'!C5*(('PDRB JATIM'!$D$12/'PDRB JATIM'!$C$12)-1) -> 2197025.3 | D5: =IF(C5<E5,"<",">") -> < | E5: ='PDRB PASURUAN'!D5-'PDRB PASURUAN'!C5 -> 2336753.1 | F5: ='PDRB PASURUAN'!D5*(('PDRB JATIM'!$E$12/'PDRB JATIM'!$D$12)-1) -> 2423761.1 | G5: =IF(F5<H5,"<",">") -> < | H5: ='PDRB PASURUAN'!E5-'PDRB PASURUAN'!D5 -> 3106216.9
A6: D | B6: Listrik, Gas, dan Air Bersih | C6: ='PDRB PASURUAN'!C6*(('PDRB JATIM'!$D$12/'PDRB JATIM'!$C$12)-1) -> 53685.833 | D6: =IF(C6<E6,"<",">") -> > | E6: ='PDRB PASURUAN'!D6-'PDRB PASURUAN'!C6 -> -39882.753 | F6: ='PDRB PASURUAN'!D6*(('PDRB JATIM'!$E$12/'PDRB JATIM'!$D$12)-1) -> 52781.956 | G6: =IF(F6<H6,"<",">") -> > | H6: ='PDRB PASURUAN'!E6-'PDRB PASURUAN'!D6 -> -88438.051
A7: E | B7: Kontrksi | C7: ='PDRB PASURUAN'!C7*(('PDRB JATIM'!$D$12/'PDRB JATIM'!$C$12)-1) -> 503737.7 | D7: =IF(C7<E7,"<",">") -> < | E7: ='PDRB PASURUAN'!D7-'PDRB PASURUAN'!C7 -> 555832.1 | F7: ='PDRB PASURUAN'!D7*(('PDRB JATIM'!$E$12/'PDRB JATIM'!$D$12)-1) -> 557056.82 | G7: =IF(F7<H7,"<",">") -> < | H7: ='PDRB PASURUAN'!E7-'PDRB PASURUAN'!D7 -> 603601.25
A8: F | B8: Perdagangan, hotel dan Restoran | C8: ='PDRB PASURUAN'!C8*(('PDRB JATIM'!$D$12/'PDRB JATIM'!$C$12)-1) -> 524329.87 | D8: =IF(C8<E8,"<",">") -> < | E8: ='PDRB PASURUAN'!D8-'PDRB PASURUAN'!C8 -> 632349.03 | F8: ='PDRB PASURUAN'!D8*(('PDRB JATIM'!$E$12/'PDRB JATIM'!$D$12)-1) -> 583403.19 | G8: =IF(F8<H8,"<",">") -> > | H8: ='PDRB PASURUAN'!E8-'PDRB PASURUAN'!D8 -> 574336.34
A9: G | B9: Pengangkutan dan Komunikasi | C9: ='PDRB PASURUAN'!C9*(('PDRB JATIM'!$D$12/'PDRB JATIM'!$C$12)-1) -> 135616.81 | D9: =IF(C9<E9,"<",">") -> < | E9: ='PDRB PASURUAN'!D9-'PDRB PASURUAN'!C9 -> 179524.93 | F9: ='PDRB PASURUAN'!D9*(('PDRB JATIM'!$E$12/'PDRB JATIM'!$D$12)-1) -> 151957.12 | G9: =IF(F9<H9,"<",">") -> < | H9: ='PDRB PASURUAN'!E9-'PDRB PASURUAN'!D9 -> 264623.85
A10: H | B10: Keuangan, Persewaan, dan jasa Persusahan | C10: ='PDRB PASURUAN'!C10*(('PDRB JATIM'!$D$12/'PDRB JATIM'!$C$12)-1) -> 59176.5 | D10: =IF(C10<E10,"<",">") -> < | E10: ='PDRB PASURUAN'!D10-'PDRB PASURUAN'!C10 -> 88417.897 | F10: ='PDRB PASURUAN'!D10*(('PDRB JATIM'!$E$12/'PDRB JATIM'!$D$12)-1) -> 66976.54 | G10: =IF(F10<H10,"<",">") -> < | H10: ='PDRB PASURUAN'!E10-'PDRB PASURUAN'!D10 -> 94578.265
A11: I | B11: Jasa-Jasa | C11: ='PDRB PASURUAN'!C11*(('PDRB JATIM'!$D$12/'PDRB JATIM'!$C$12)-1) -> 135054.96 | D11: =IF(C11<E11,"<",">") -> > | E11: ='PDRB PASURUAN'!D11-'PDRB PASURUAN'!C11 -> 98512.431 | F11: ='PDRB PASURUAN'!D11*(('PDRB JATIM'!$E$12/'PDRB JATIM'!$D$12)-1) -> 145993.87 | G11: =IF(F11<H11,"<",">") -> > | H11: ='PDRB PASURUAN'!E11-'PDRB PASURUAN'!D11 -> 76690.072
A14: kategori | B14: sektor | C14: 2012 - 2013 | D14: </> | E14: ∆Qij | F14: 2013-2014 | G14: </> | H14: ∆Qij
A15: A | B15: Pertanian | C15: ='PDRB PASURUAN'!E3*(('PDRB JATIM'!$F$12/'PDRB JATIM'!$E$12)-1) -> 313683.77 | D15: =IF(C15<E15,"<",">") -> > | E15: ='PDRB PASURUAN'!F3-'PDRB PASURUAN'!E3 -> 127563.41 | F15: ='PDRB PASURUAN'!F3*(('PDRB JATIM'!$G$12/'PDRB JATIM'!$F$12)-1) -> 309823.93 | G15: =IF(F15<H15,"<",">") -> > | H15: ='PDRB PASURUAN'!G3-'PDRB PASURUAN'!F3 -> 187426.62
A16: B | B16: Pertambangan, dan Penggalian | C16: ='PDRB PASURUAN'!E4*(('PDRB JATIM'!$F$12/'PDRB JATIM'!$E$12)-1) -> 27189.841 | D16: =IF(C16<E16,"<",">") -> > | E16: ='PDRB PASURUAN'!F4-'PDRB PASURUAN'!E4 -> 7480.21 | F16: ='PDRB PASURUAN'!F4*(('PDRB JATIM'!$G$12/'PDRB JATIM'!$F$12)-1) -> 26645.785 | G16: =IF(F16<H16,"<",">") -> > | H16: ='PDRB PASURUAN'!G4-'PDRB PASURUAN'!F4 -> 7382.876
A17: C | B17: Indusri Pengolahan | C17: ='PDRB PASURUAN'!E5*(('PDRB JATIM'!$F$12/'PDRB JATIM'!$E$12)-1) -> 2405113.9 | D17: =IF(C17<E17,"<",">") -> < | E17: ='PDRB PASURUAN'!F5-'PDRB PASURUAN'!E5 -> 2867511.3 | F17: ='PDRB PASURUAN'!F5*(('PDRB JATIM'!$G$12/'PDRB JATIM'!$F$12)-1) -> 2486179.3 | G17: =IF(F17<H17,"<",">") -> < | H17: ='PDRB PASURUAN'!G5-'PDRB PASURUAN'!F5 -> 3462929.4
A18: D | B18: Listrik, Gas, dan Air Bersih | C18: ='PDRB PASURUAN'!E6*(('PDRB JATIM'!$F$12/'PDRB JATIM'!$E$12)-1) -> 42891.978 | D18: =IF(C18<E18,"<",">") -> > | E18: ='PDRB PASURUAN'!F6-'PDRB PASURUAN'!E6 -> 15935.572 | F18: ='PDRB PASURUAN'!F6*(('PDRB JATIM'!$G$12/'PDRB JATIM'!$F$12)-1) -> 42275.938 | G18: =IF(F18<H18,"<",">") -> < | H18: ='PDRB PASURUAN'!G6-'PDRB PASURUAN'!F6 -> 42482.427
A19: E | B19: Kontrksi | C19: ='PDRB PASURUAN'!E7*(('PDRB JATIM'!$F$12/'PDRB JATIM'!$E$12)-1) -> 546068.69 | D19: =IF(C19<E19,"<",">") -> < | E19: ='PDRB PASURUAN'!F7-'PDRB PASURUAN'!E7 -> 773423.27 | F19: ='PDRB PASURUAN'!F7*(('PDRB JATIM'!$G$12/'PDRB JATIM'!$F$12)-1) -> 571641.05 | G19: =IF(F19<H19,"<",">") -> > | H19: ='PDRB PASURUAN'!G7-'PDRB PASURUAN'!F7 -> 519739.98
A20: F | B20: Perdagangan, hotel dan Restoran | C20: ='PDRB PASURUAN'!E8*(('PDRB JATIM'!$F$12/'PDRB JATIM'!$E$12)-1) -> 568382.53 | D20: =IF(C20<E20,"<",">") -> > | E20: ='PDRB PASURUAN'!F8-'PDRB PASURUAN'!E8 -> 562678.82 | F20: ='PDRB PASURUAN'!F8*(('PDRB JATIM'!$G$12/'PDRB JATIM'!$F$12)-1) -> 580806.09 | G20: =IF(F20<H20,"<",">") -> > | H20: ='PDRB PASURUAN'!G8-'PDRB PASURUAN'!F8 -> 533464.13
A21: G | B21: Pengangkutan dan Komunikasi | C21: ='PDRB PASURUAN'!E9*(('PDRB JATIM'!$F$12/'PDRB JATIM'!$E$12)-1) -> 155034.14 | D21: =IF(C21<E21,"<",">") -> < | E21: ='PDRB PASURUAN'!F9-'PDRB PASURUAN'!E9 -> 299272.62 | F21: ='PDRB PASURUAN'!F9*(('PDRB JATIM'!$G$12/'PDRB JATIM'!$F$12)-1) -> 166961.64 | G21: =IF(F21<H21,"<",">") -> > | H21: ='PDRB PASURUAN'!G9-'PDRB PASURUAN'!F9 -> 149261.5
A22: H | B22: Keuangan, Persewaan, dan jasa Persusahan | C22: ='PDRB PASURUAN'!E10*(('PDRB JATIM'!$F$12/'PDRB JATIM'!$E$12)-1) -> 66992.515 | D22: =IF(C22<E22,"<",">") -> < | E22: ='PDRB PASURUAN'!F10-'PDRB PASURUAN'!E10 -> 132225.92 | F22: ='PDRB PASURUAN'!F10*(('PDRB JATIM'!$G$12/'PDRB JATIM'!$F$12)-1) -> 72316.753 | G22: =IF(F22<H22,"<",">") -> < | H22: ='PDRB PASURUAN'!G10-'PDRB PASURUAN'!F10 -> 76962.644
A23: I | B23: Jasa-Jasa | C23: ='PDRB PASURUAN'!E11*(('PDRB JATIM'!$F$12/'PDRB JATIM'!$E$12)-1) -> 138161.83 | D23: =IF(C23<E23,"<",">") -> > | E23: ='PDRB PASURUAN'!F11-'PDRB PASURUAN'!E11 -> 90803.504 | F23: ='PDRB PASURUAN'!F11*(('PDRB JATIM'!$G$12/'PDRB JATIM'!$F$12)-1) -> 138489.27 | G23: =IF(F23<H23,"<",">") -> > | H23: ='PDRB PASURUAN'!G11-'PDRB PASURUAN'!F11 -> 81755.656
A26: kategori | B26: sektor | C26: 2014 - 2015 | D26: </> | E26: ∆Qij | F26: 2015 - 2016 | G26: </> | H26: ∆Qij
A27: A | B27: Pertanian | C27: ='PDRB PASURUAN'!G3*(('PDRB JATIM'!$H$12/'PDRB JATIM'!$G$12)-1) -> 298144.82 | D27: =IF(C27<E27,"<",">") -> > | E27: ='PDRB PASURUAN'!H3-'PDRB PASURUAN'!G3 -> 174145.43 | F27: ='PDRB PASURUAN'!H3*(('PDRB JATIM'!$I$12/'PDRB JATIM'!$H$12)-1) -> 314876.93 | G27: =IF(F27<H27,"<",">") -> > | H27: ='PDRB PASURUAN'!I3-'PDRB PASURUAN'!H3 -> 191978.24
A28: B | B28: Pertambangan, dan Penggalian | C28: ='PDRB PASURUAN'!G4*(('PDRB JATIM'!$H$12/'PDRB JATIM'!$G$12)-1) -> 25165.815 | D28: =IF(C28<E28,"<",">") -> > | E28: ='PDRB PASURUAN'!H4-'PDRB PASURUAN'!G4 -> 7502.6823 | F28: ='PDRB PASURUAN'!H4*(('PDRB JATIM'!$I$12/'PDRB JATIM'!$H$12)-1) -> 26177.184 | G28: =IF(F28<H28,"<",">") -> > | H28: ='PDRB PASURUAN'!I4-'PDRB PASURUAN'!H4 -> 9546.0975
A29: C | B29: Indusri Pengolahan | C29: ='PDRB PASURUAN'!G5*(('PDRB JATIM'!$H$12/'PDRB JATIM'!$G$12)-1) -> 2499087.1 | D29: =IF(C29<E29,"<",">") -> < | E29: ='PDRB PASURUAN'!H5-'PDRB PASURUAN'!G5 -> 2979857.2 | F29: ='PDRB PASURUAN'!H5*(('PDRB JATIM'!$I$12/'PDRB JATIM'!$H$12)-1) -> 2724032.3 | G29: =IF(F29<H29,"<",">") -> < | H29: ='PDRB PASURUAN'!I5-'PDRB PASURUAN'!H5 -> 2850586.2
A30: D | B30: Listrik, Gas, dan Air Bersih | C30: ='PDRB PASURUAN'!G6*(('PDRB JATIM'!$H$12/'PDRB JATIM'!$G$12)-1) -> 41602.617 | D30: =IF(C30<E30,"<",">") -> < | E30: ='PDRB PASURUAN'!H6-'PDRB PASURUAN'!G6 -> 47958.267 | F30: ='PDRB PASURUAN'!H6*(('PDRB JATIM'!$I$12/'PDRB JATIM'!$H$12)-1) -> 45255.502 | G30: =IF(F30<H30,"<",">") -> > | H30: ='PDRB PASURUAN'!I6-'PDRB PASURUAN'!H6 -> 4859.3502
A31: E | B31: Kontrksi | C31: ='PDRB PASURUAN'!G7*(('PDRB JATIM'!$H$12/'PDRB JATIM'!$G$12)-1) -> 559559.61 | D31: =IF(C31<E31,"<",">") -> > | E31: ='PDRB PASURUAN'!H7-'PDRB PASURUAN'!G7 -> 119894.15 | F31: ='PDRB PASURUAN'!H7*(('PDRB JATIM'!$I$12/'PDRB JATIM'!$H$12)-1) -> 579432.78 | G31: =IF(F31<H31,"<",">") -> > | H31: ='PDRB PASURUAN'!I7-'PDRB PASURUAN'!H7 -> 208000.19
A32: F | B32: Perdagangan, hotel dan Restoran | C32: ='PDRB PASURUAN'!G8*(('PDRB JATIM'!$H$12/'PDRB JATIM'!$G$12)-1) -> 568824.4 | D32: =IF(C32<E32,"<",">") -> < | E32: ='PDRB PASURUAN'!H8-'PDRB PASURUAN'!G8 -> 637278.62 | F32: ='PDRB PASURUAN'!H8*(('PDRB JATIM'!$I$12/'PDRB JATIM'!$H$12)-1) -> 617741.9 | G32: =IF(F32<H32,"<",">") -> < | H32: ='PDRB PASURUAN'!I8-'PDRB PASURUAN'!H8 -> 833073.24
A33: G | B33: Pengangkutan dan Komunikasi | C33: ='PDRB PASURUAN'!G9*(('PDRB JATIM'!$H$12/'PDRB JATIM'!$G$12)-1) -> 163294.65 | D33: =IF(C33<E33,"<",">") -> > | E33: ='PDRB PASURUAN'!H9-'PDRB PASURUAN'!G9 -> 151900.6 | F33: ='PDRB PASURUAN'!H9*(('PDRB JATIM'!$I$12/'PDRB JATIM'!$H$12)-1) -> 175607.9 | G33: =IF(F33<H33,"<",">") -> < | H33: ='PDRB PASURUAN'!I9-'PDRB PASURUAN'!H9 -> 257977.02
A34: H | B34: Keuangan, Persewaan, dan jasa Persusahan | C34: ='PDRB PASURUAN'!G10*(('PDRB JATIM'!$H$12/'PDRB JATIM'!$G$12)-1) -> 71398.633 | D34: =IF(C34<E34,"<",">") -> > | E34: ='PDRB PASURUAN'!H10-'PDRB PASURUAN'!G10 -> 67858.032 | F34: ='PDRB PASURUAN'!H10*(('PDRB JATIM'!$I$12/'PDRB JATIM'!$H$12)-1) -> 76862.757 | G34: =IF(F34<H34,"<",">") -> < | H34: ='PDRB PASURUAN'!I10-'PDRB PASURUAN'!H10 -> 93768.325
A35: I | B35: Jasa-Jasa | C35: ='PDRB PASURUAN'!G11*(('PDRB JATIM'!$H$12/'PDRB JATIM'!$G$12)-1) -> 133158.68 | D35: =IF(C35<E35,"<",">") -> > | E35: ='PDRB PASURUAN'!H11-'PDRB PASURUAN'!G11 -> 123951.45 | F35: ='PDRB PASURUAN'!H11*(('PDRB JATIM'!$I$12/'PDRB JATIM'!$H$12)-1) -> 143204.21 | G35: =IF(F35<H35,"<",">") -> < | H35: ='PDRB PASURUAN'!I11-'PDRB PASURUAN'!H11 -> 145669.17
A38: kategori | B38: sektor | C38: 2016 - 2017 | D38: </> | E38: ∆Qij | F38: 2017 - 2018 | G38: </> | H38: ∆Qij
A39: A | B39: Pertanian | C39: ='PDRB PASURUAN'!I3*(('PDRB JATIM'!$J$12/'PDRB JATIM'!$I$12)-1) -> 319072.43 | D39: =IF(C39<E39,"<",">") -> > | E39: ='PDRB PASURUAN'!J3-'PDRB PASURUAN'!I3 -> 63398.005 | F39: ='PDRB PASURUAN'!J3*(('PDRB JATIM'!$K$12/'PDRB JATIM'!$J$12)-1) -> 324656.79 | G39: =IF(F39<H39,"<",">") -> > | H39: ='PDRB PASURUAN'!K3-'PDRB PASURUAN'!J3 -> -84857.654
A40: B | B40: Pertambangan, dan Penggalian | C40: ='PDRB PASURUAN'!I4*(('PDRB JATIM'!$J$12/'PDRB JATIM'!$I$12)-1) -> 26175.759 | D40: =IF(C40<E40,"<",">") -> > | E40: ='PDRB PASURUAN'!J4-'PDRB PASURUAN'!I4 -> 19055.65 | F40: ='PDRB PASURUAN'!J4*(('PDRB JATIM'!$K$12/'PDRB JATIM'!$J$12)-1) -> 27395.358 | G40: =IF(F40<H40,"<",">") -> > | H40: ='PDRB PASURUAN'!K4-'PDRB PASURUAN'!J4 -> 12211.918
A41: C | B41: Indusri Pengolahan | C41: ='PDRB PASURUAN'!I5*(('PDRB JATIM'!$J$12/'PDRB JATIM'!$I$12)-1) -> 2825291.7 | D41: =IF(C41<E41,"<",">") -> < | E41: ='PDRB PASURUAN'!J5-'PDRB PASURUAN'!I5 -> 2953673.8 | F41: ='PDRB PASURUAN'!J5*(('PDRB JATIM'!$K$12/'PDRB JATIM'!$J$12)-1) -> 3006224.3 | G41: =IF(F41<H41,"<",">") -> < | H41: ='PDRB PASURUAN'!K5-'PDRB PASURUAN'!J5 -> 3677207
A42: D | B42: Listrik, Gas, dan Air Bersih | C42: ='PDRB PASURUAN'!I6*(('PDRB JATIM'!$J$12/'PDRB JATIM'!$I$12)-1) -> 44617.246 | D42: =IF(C42<E42,"<",">") -> > | E42: ='PDRB PASURUAN'!J6-'PDRB PASURUAN'!I6 -> 13247.454 | F42: ='PDRB PASURUAN'!J6*(('PDRB JATIM'!$K$12/'PDRB JATIM'!$J$12)-1) -> 45638.986 | G42: =IF(F42<H42,"<",">") -> > | H42: ='PDRB PASURUAN'!K6-'PDRB PASURUAN'!J6 -> -27031.395
A43: E | B43: Kontrksi | C43: ='PDRB PASURUAN'!I7*(('PDRB JATIM'!$J$12/'PDRB JATIM'!$I$12)-1) -> 579220.89 | D43: =IF(C43<E43,"<",">") -> < | E43: ='PDRB PASURUAN'!J7-'PDRB PASURUAN'!I7 -> 689520.62 | F43: ='PDRB PASURUAN'!J7*(('PDRB JATIM'!$K$12/'PDRB JATIM'!$J$12)-1) -> 620930.06 | G43: =IF(F43<H43,"<",">") -> > | H43: ='PDRB PASURUAN'!K7-'PDRB PASURUAN'!J7 -> 598769.1
A44: F | B44: Perdagangan, hotel dan Restoran | C44: ='PDRB PASURUAN'!I8*(('PDRB JATIM'!$J$12/'PDRB JATIM'!$I$12)-1) -> 650895.5 | D44: =IF(C44<E44,"<",">") -> < | E44: ='PDRB PASURUAN'!J8-'PDRB PASURUAN'!I8 -> 924939.52 | F44: ='PDRB PASURUAN'!J8*(('PDRB JATIM'!$K$12/'PDRB JATIM'!$J$12)-1) -> 706015.38 | G44: =IF(F44<H44,"<",">") -> < | H44: ='PDRB PASURUAN'!K8-'PDRB PASURUAN'!J8 -> 836255.12
A45: G | B45: Pengangkutan dan Komunikasi | C45: ='PDRB PASURUAN'!I9*(('PDRB JATIM'!$J$12/'PDRB JATIM'!$I$12)-1) -> 186187.77 | D45: =IF(C45<E45,"<",">") -> < | E45: ='PDRB PASURUAN'!J9-'PDRB PASURUAN'!I9 -> 283271.37 | F45: ='PDRB PASURUAN'!J9*(('PDRB JATIM'!$K$12/'PDRB JATIM'!$J$12)-1) -> 202982.17 | G45: =IF(F45<H45,"<",">") -> < | H45: ='PDRB PASURUAN'!K9-'PDRB PASURUAN'!J9 -> 250996.91
A46: H | B46: Keuangan, Persewaan, dan jasa Persusahan | C46: ='PDRB PASURUAN'!I10*(('PDRB JATIM'!$J$12/'PDRB JATIM'!$I$12)-1) -> 80448.047 | D46: =IF(C46<E46,"<",">") -> > | E46: ='PDRB PASURUAN'!J10-'PDRB PASURUAN'!I10 -> 50987.254 | F46: ='PDRB PASURUAN'!J10*(('PDRB JATIM'!$K$12/'PDRB JATIM'!$J$12)-1) -> 83779.84 | G46: =IF(F46<H46,"<",">") -> > | H46: ='PDRB PASURUAN'!K10-'PDRB PASURUAN'!J10 -> 62965.538
A47: I | B47: Jasa-Jasa | C47: ='PDRB PASURUAN'!I11*(('PDRB JATIM'!$J$12/'PDRB JATIM'!$I$12)-1) -> 148298.8 | D47: =IF(C47<E47,"<",">") -> > | E47: ='PDRB PASURUAN'!J11-'PDRB PASURUAN'!I11 -> 92709.538 | F47: ='PDRB PASURUAN'!J11*(('PDRB JATIM'!$K$12/'PDRB JATIM'!$J$12)-1) -> 154370.26 | G47: =IF(F47<H47,"<",">") -> > | H47: ='PDRB PASURUAN'!K11-'PDRB PASURUAN'!J11 -> 118879.28
...

Sheet SS(PS)
A2: kategori | B2: sektor | C2: 2010 - 2011 | D2: </> | E2: SKOR | F2: 2011-2012 | G2: </> | H2: SKOR
A3: A | B3: Pertanian | C3: ='PDRB PASURUAN'!C3*(('PDRB JATIM'!D3/'PDRB JATIM'!C3)-('PDRB JATIM'!$D$12/'PDRB JATIM'!$C$12)) -> -112937.51 | D3: =IF(C3<0,"<",">") -> < | E3: =IF(C3<0,"0","1") -> 0 | F3: ='PDRB PASURUAN'!D3*(('PDRB JATIM'!E3/'PDRB JATIM'!D3)-('PDRB JATIM'!$E$12/'PDRB JATIM'!$D$12)) -> -73968.491 | G3: =IF(F3<0,"<",">") -> < | H3: =IF(F3<0,"0","1") -> 0
A4: B | B4: Pertambangan, dan Penggalian | C4: ='PDRB PASURUAN'!C4*(('PDRB JATIM'!D4/'PDRB JATIM'!C4)-('PDRB JATIM'!$D$12/'PDRB JATIM'!$C$12)) -> 5129.1682 | D4: =IF(C4<0,"<",">") -> > | E4: =IF(C4<0,"0","1") -> 1 | F4: ='PDRB PASURUAN'!D4*(('PDRB JATIM'!E4/'PDRB JATIM'!D4)-('PDRB JATIM'!$E$12/'PDRB JATIM'!$D$12)) -> -28331.851 | G4: =IF(F4<0,"<",">") -> < | H4: =IF(F4<0,"0","1") -> 0
A5: C | B5: Indusri Pengolahan | C5: ='PDRB PASURUAN'!C5*(('PDRB JATIM'!D5/'PDRB JATIM'!C5)-('PDRB JATIM'!$D$12/'PDRB JATIM'!$C$12)) -> -638352.24 | D5: =IF(C5<0,"<",">") -> < | E5: =IF(C5<0,"0","1") -> 0 | F5: ='PDRB PASURUAN'!D5*(('PDRB JATIM'!E5/'PDRB JATIM'!D5)-('PDRB JATIM'!$E$12/'PDRB JATIM'!$D$12)) -> 32357.843 | G5: =IF(F5<0,"<",">") -> > | H5: =IF(F5<0,"0","1") -> 1
A6: D | B6: Listrik, Gas, dan Air Bersih | C6: ='PDRB PASURUAN'!C6*(('PDRB JATIM'!D6/'PDRB JATIM'!C6)-('PDRB JATIM'!$D$12/'PDRB JATIM'!$C$12)) -> -52424.287 | D6: =IF(C6<0,"<",">") -> < | E6: =IF(C6<0,"0","1") -> 0 | F6: ='PDRB PASURUAN'!D6*(('PDRB JATIM'!E6/'PDRB JATIM'!D6)-('PDRB JATIM'!$E$12/'PDRB JATIM'!$D$12)) -> -72045.319 | G6: =IF(F6<0,"<",">") -> < | H6: =IF(F6<0,"0","1") -> 0
A7: E | B7: Kontrksi | C7: ='PDRB PASURUAN'!C7*(('PDRB JATIM'!D7/'PDRB JATIM'!C7)-('PDRB JATIM'!$D$12/'PDRB JATIM'!$C$12)) -> -26832.85 | D7: =IF(C7<0,"<",">") -> < | E7: =IF(C7<0,"0","1") -> 0 | F7: ='PDRB PASURUAN'!D7*(('PDRB JATIM'!E7/'PDRB JATIM'!D7)-('PDRB JATIM'!$E$12/'PDRB JATIM'!$D$12)) -> 67849.839 | G7: =IF(F7<0,"<",">") -> > | H7: =IF(F7<0,"0","1") -> 1
A8: F | B8: Perdagangan, hotel dan Restoran | C8: ='PDRB PASURUAN'!C8*(('PDRB JATIM'!D8/'PDRB JATIM'!C8)-('PDRB JATIM'!$D$12/'PDRB JATIM'!$C$12)) -> 231717.96 | D8: =IF(C8<0,"<",">") -> > | E8: =IF(C8<0,"0","1") -> 1 | F8: ='PDRB PASURUAN'!D8*(('PDRB JATIM'!E8/'PDRB JATIM'!D8)-('PDRB JATIM'!$E$12/'PDRB JATIM'!$D$12)) -> 90053.156 | G8: =IF(F8<0,"<",">") -> > | H8: =IF(F8<0,"0","1") -> 1
A9: G | B9: Pengangkutan dan Komunikasi | C9: ='PDRB PASURUAN'!C9*(('PDRB JATIM'!D9/'PDRB JATIM'!C9)-('PDRB JATIM'!$D$12/'PDRB JATIM'!$C$12)) -> 52182.144 | D9: =IF(C9<0,"<",">") -> > | E9: =IF(C9<0,"0","1") -> 1 | F9: ='PDRB PASURUAN'!D9*(('PDRB JATIM'!E9/'PDRB JATIM'!D9)-('PDRB JATIM'!$E$12/'PDRB JATIM'!$D$12)) -> 88496.468 | G9: =IF(F9<0,"<",">") -> > | H9: =IF(F9<0,"0","1") -> 1
A10: H | B10: Keuangan, Persewaan, dan jasa Persusahan | C10: ='PDRB PASURUAN'!C10*(('PDRB JATIM'!D10/'PDRB JATIM'!C10)-('PDRB JATIM'!$D$12/'PDRB JATIM'!$C$12)) -> 17171.959 | D10: =IF(C10<0,"<",">") -> > | E10: =IF(C10<0,"0","1") -> 1 | F10: ='PDRB PASURUAN'!D10*(('PDRB JATIM'!E10/'PDRB JATIM'!D10)-('PDRB JATIM'!$E$12/'PDRB JATIM'!$D$12)) -> 18851.051 | G10: =IF(F10<0,"<",">") -> > | H10: =IF(F10<0,"0","1") -> 1
A11: I | B11: Jasa-Jasa | C11: ='PDRB PASURUAN'!C11*(('PDRB JATIM'!D11/'PDRB JATIM'!C11)-('PDRB JATIM'!$D$12/'PDRB JATIM'!$C$12)) -> -8856.8201 | D11: =IF(C11<0,"<",">") -> < | E11: =IF(C11<0,"0","1") -> 0 | F11: ='PDRB PASURUAN'!D11*(('PDRB JATIM'!E11/'PDRB JATIM'!D11)-('PDRB JATIM'!$E$12/'PDRB JATIM'!$D$12)) -> -36919.872 | G11: =IF(F11<0,"<",">") -> < | H11: =IF(F11<0,"0","1") -> 0
A14: kategori | B14: sektor | C14: 2012-2013 | D14: </> | E14: SKOR | F14: 2013-2014 | G14: </> | H14: SKOR
A15: A | B15: Pertanian | C15: ='PDRB PASURUAN'!E3*(('PDRB JATIM'!F3/'PDRB JATIM'!E3)-('PDRB JATIM'!$F$12/'PDRB JATIM'!$E$12)) -> -155943.16 | D15: =IF(C15<0,"<",">") -> < | E15: =IF(C15<0,"0","1") -> 0 | F15: ='PDRB PASURUAN'!F3*(('PDRB JATIM'!G3/'PDRB JATIM'!F3)-('PDRB JATIM'!$G$12/'PDRB JATIM'!$F$12)) -> -122774.03 | G15: =IF(F15<0,"<",">") -> < | H15: =IF(F15<0,"0","1") -> 0
A16: B | B16: Pertambangan, dan Penggalian | C16: ='PDRB PASURUAN'!E4*(('PDRB JATIM'!F4/'PDRB JATIM'!E4)-('PDRB JATIM'!$F$12/'PDRB JATIM'!$E$12)) -> -21339.64 | D16: =IF(C16<0,"<",">") -> < | E16: =IF(C16<0,"0","1") -> 0 | F16: ='PDRB PASURUAN'!F4*(('PDRB JATIM'!G4/'PDRB JATIM'!F4)-('PDRB JATIM'!$G$12/'PDRB JATIM'!$F$12)) -> -12959.588 | G16: =IF(F16<0,"<",">") -> < | H16: =IF(F16<0,"0","1") -> 0
A17: C | B17: Indusri Pengolahan | C17: ='PDRB PASURUAN'!E5*(('PDRB JATIM'!F5/'PDRB JATIM'!E5)-('PDRB JATIM'!$F$12/'PDRB JATIM'!$E$12)) -> -89319.592 | D17: =IF(C17<0,"<",">") -> < | E17: =IF(C17<0,"0","1") -> 0 | F17: ='PDRB PASURUAN'!F5*(('PDRB JATIM'!G5/'PDRB JATIM'!F5)-('PDRB JATIM'!$G$12/'PDRB JATIM'!$F$12)) -> 769632.13 | G17: =IF(F17<0,"<",">") -> > | H17: =IF(F17<0,"0","1") -> 1
A18: D | B18: Listrik, Gas, dan Air Bersih | C18: ='PDRB PASURUAN'!E6*(('PDRB JATIM'!F6/'PDRB JATIM'!E6)-('PDRB JATIM'!$F$12/'PDRB JATIM'!$E$12)) -> -20792.849 | D18: =IF(C18<0,"<",">") -> < | E18: =IF(C18<0,"0","1") -> 0 | F18: ='PDRB PASURUAN'!F6*(('PDRB JATIM'!G6/'PDRB JATIM'!F6)-('PDRB JATIM'!$G$12/'PDRB JATIM'!$F$12)) -> -20677.786 | G18: =IF(F18<0,"<",">") -> < | H18: =IF(F18<0,"0","1") -> 0
A19: E | B19: Kontrksi | C19: ='PDRB PASURUAN'!E7*(('PDRB JATIM'!F7/'PDRB JATIM'!E7)-('PDRB JATIM'!$F$12/'PDRB JATIM'!$E$12)) -> 177673.71 | D19: =IF(C19<0,"<",">") -> > | E19: =IF(C19<0,"0","1") -> 1 | F19: ='PDRB PASURUAN'!F7*(('PDRB JATIM'!G7/'PDRB JATIM'!F7)-('PDRB JATIM'!$G$12/'PDRB JATIM'!$F$12)) -> -40467.135 | G19: =IF(F19<0,"<",">") -> < | H19: =IF(F19<0,"0","1") -> 0
A20: F | B20: Perdagangan, hotel dan Restoran | C20: ='PDRB PASURUAN'!E8*(('PDRB JATIM'!F8/'PDRB JATIM'!E8)-('PDRB JATIM'!$F$12/'PDRB JATIM'!$E$12)) -> 1254.4171 | D20: =IF(C20<0,"<",">") -> > | E20: =IF(C20<0,"0","1") -> 1 | F20: ='PDRB PASURUAN'!F8*(('PDRB JATIM'!G8/'PDRB JATIM'!F8)-('PDRB JATIM'!$G$12/'PDRB JATIM'!$F$12)) -> -4174.1654 | G20: =IF(F20<0,"<",">") -> < | H20: =IF(F20<0,"0","1") -> 0
A21: G | B21: Pengangkutan dan Komunikasi | C21: ='PDRB PASURUAN'!E9*(('PDRB JATIM'!F9/'PDRB JATIM'!E9)-('PDRB JATIM'!$F$12/'PDRB JATIM'!$E$12)) -> 121260.06 | D21: =IF(C21<0,"<",">") -> > | E21: =IF(C21<0,"0","1") -> 1 | F21: ='PDRB PASURUAN'!F9*(('PDRB JATIM'!G9/'PDRB JATIM'!F9)-('PDRB JATIM'!$G$12/'PDRB JATIM'!$F$12)) -> 6614.6784 | G21: =IF(F21<0,"<",">") -> > | H21: =IF(F21<0,"0","1") -> 1
A22: H | B22: Keuangan, Persewaan, dan jasa Persusahan | C22: ='PDRB PASURUAN'!E10*(('PDRB JATIM'!F10/'PDRB JATIM'!E10)-('PDRB JATIM'!$F$12/'PDRB JATIM'!$E$12)) -> 49256.452 | D22: =IF(C22<0,"<",">") -> > | E22: =IF(C22<0,"0","1") -> 1 | F22: ='PDRB PASURUAN'!F10*(('PDRB JATIM'!G10/'PDRB JATIM'!F10)-('PDRB JATIM'!$G$12/'PDRB JATIM'!$F$12)) -> 15317.805 | G22: =IF(F22<0,"<",">") -> > | H22: =IF(F22<0,"0","1") -> 1
A23: I | B23: Jasa-Jasa | C23: ='PDRB PASURUAN'!E11*(('PDRB JATIM'!F11/'PDRB JATIM'!E11)-('PDRB JATIM'!$F$12/'PDRB JATIM'!$E$12)) -> -18634.339 | D23: =IF(C23<0,"<",">") -> < | E23: =IF(C23<0,"0","1") -> 0 | F23: ='PDRB PASURUAN'!F11*(('PDRB JATIM'!G11/'PDRB JATIM'!F11)-('PDRB JATIM'!$G$12/'PDRB JATIM'!$F$12)) -> -37156.06 | G23: =IF(F23<0,"<",">") -> < | H23: =IF(F23<0,"0","1") -> 0
A26: kategori | B26: sektor | C26: 2014-2015 | D26: </> | E26: SKOR | F26: 2015-2016 | G26: </> | H26: SKOR
A27: A | B27: Pertanian | C27: ='PDRB PASURUAN'!G3*(('PDRB JATIM'!H3/'PDRB JATIM'!G3)-('PDRB JATIM'!$H$12/'PDRB JATIM'!$G$12)) -> -118634.54 | D27: =IF(C27<0,"<",">") -> < | E27: =IF(C27<0,"0","1") -> 0 | F27: ='PDRB PASURUAN'!H3*(('PDRB JATIM'!I3/'PDRB JATIM'!H3)-('PDRB JATIM'!$I$12/'PDRB JATIM'!$H$12)) -> -178899.37 | G27: =IF(F27<0,"<",">") -> < | H27: =IF(F27<0,"0","1") -> 0
A28: B | B28: Pertambangan, dan Penggalian | C28: ='PDRB PASURUAN'!G4*(('PDRB JATIM'!H4/'PDRB JATIM'!G4)-('PDRB JATIM'!$H$12/'PDRB JATIM'!$G$12)) -> 11932.093 | D28: =IF(C28<0,"<",">") -> > | E28: =IF(C28<0,"0","1") -> 1 | F28: ='PDRB PASURUAN'!H4*(('PDRB JATIM'!I4/'PDRB JATIM'!H4)-('PDRB JATIM'!$I$12/'PDRB JATIM'!$H$12)) -> 40451.229 | G28: =IF(F28<0,"<",">") -> > | H28: =IF(F28<0,"0","1") -> 1
A29: C | B29: Indusri Pengolahan | C29: ='PDRB PASURUAN'!G5*(('PDRB JATIM'!H5/'PDRB JATIM'!G5)-('PDRB JATIM'!$H$12/'PDRB JATIM'!$G$12)) -> 85213.591 | D29: =IF(C29<0,"<",">") -> > | E29: =IF(C29<0,"0","1") -> 1 | F29: ='PDRB PASURUAN'!H5*(('PDRB JATIM'!I5/'PDRB JATIM'!H5)-('PDRB JATIM'!$I$12/'PDRB JATIM'!$H$12)) -> -552327.79 | G29: =IF(F29<0,"<",">") -> < | H29: =IF(F29<0,"0","1") -> 0
A30: D | B30: Listrik, Gas, dan Air Bersih | C30: ='PDRB PASURUAN'!G6*(('PDRB JATIM'!H6/'PDRB JATIM'!G6)-('PDRB JATIM'!$H$12/'PDRB JATIM'!$G$12)) -> -44875.82 | D30: =IF(C30<0,"<",">") -> < | E30: =IF(C30<0,"0","1") -> 0 | F30: ='PDRB PASURUAN'!H6*(('PDRB JATIM'!I6/'PDRB JATIM'!H6)-('PDRB JATIM'!$I$12/'PDRB JATIM'!$H$12)) -> -31696.303 | G30: =IF(F30<0,"<",">") -> < | H30: =IF(F30<0,"0","1") -> 0
A31: E | B31: Kontrksi | C31: ='PDRB PASURUAN'!G7*(('PDRB JATIM'!H7/'PDRB JATIM'!G7)-('PDRB JATIM'!$H$12/'PDRB JATIM'!$G$12)) -> -189819.28 | D31: =IF(C31<0,"<",">") -> < | E31: =IF(C31<0,"0","1") -> 0 | F31: ='PDRB PASURUAN'!H7*(('PDRB JATIM'!I7/'PDRB JATIM'!H7)-('PDRB JATIM'!$I$12/'PDRB JATIM'!$H$12)) -> -6701.937 | G31: =IF(F31<0,"<",">") -> < | H31: =IF(F31<0,"0","1") -> 0
A32: F | B32: Perdagangan, hotel dan Restoran | C32: ='PDRB PASURUAN'!G8*(('PDRB JATIM'!H8/'PDRB JATIM'!G8)-('PDRB JATIM'!$H$12/'PDRB JATIM'!$G$12)) -> 60194.882 | D32: =IF(C32<0,"<",">") -> > | E32: =IF(C32<0,"0","1") -> 1 | F32: ='PDRB PASURUAN'!H8*(('PDRB JATIM'!I8/'PDRB JATIM'!H8)-('PDRB JATIM'!$I$12/'PDRB JATIM'!$H$12)) -> 90790.954 | G32: =IF(F32<0,"<",">") -> > | H32: =IF(F32<0,"0","1") -> 1
A33: G | B33: Pengangkutan dan Komunikasi | C33: ='PDRB PASURUAN'!G9*(('PDRB JATIM'!H9/'PDRB JATIM'!G9)-('PDRB JATIM'!$H$12/'PDRB JATIM'!$G$12)) -> 33230.99 | D33: =IF(C33<0,"<",">") -> > | E33: =IF(C33<0,"0","1") -> 1 | F33: ='PDRB PASURUAN'!H9*(('PDRB JATIM'!I9/'PDRB JATIM'!H9)-('PDRB JATIM'!$I$12/'PDRB JATIM'!$H$12)) -> 42547.986 | G33: =IF(F33<0,"<",">") -> > | H33: =IF(F33<0,"0","1") -> 1
A34: H | B34: Keuangan, Persewaan, dan jasa Persusahan | C34: ='PDRB PASURUAN'!G10*(('PDRB JATIM'!H10/'PDRB JATIM'!G10)-('PDRB JATIM'!$H$12/'PDRB JATIM'!$G$12)) -> 9474.958 | D34: =IF(C34<0,"<",">") -> > | E34: =IF(C34<0,"0","1") -> 1 | F34: ='PDRB PASURUAN'!H10*(('PDRB JATIM'!I10/'PDRB JATIM'!H10)-('PDRB JATIM'!$I$12/'PDRB JATIM'!$H$12)) -> 7521.4835 | G34: =IF(F34<0,"<",">") -> > | H34: =IF(F34<0,"0","1") -> 1
A35: I | B35: Jasa-Jasa | C35: ='PDRB PASURUAN'!G11*(('PDRB JATIM'!H11/'PDRB JATIM'!G11)-('PDRB JATIM'!$H$12/'PDRB JATIM'!$G$12)) -> 7789.2519 | D35: =IF(C35<0,"<",">") -> > | E35: =IF(C35<0,"0","1") -> 1 | F35: ='PDRB PASURUAN'!H11*(('PDRB JATIM'!I11/'PDRB JATIM'!H11)-('PDRB JATIM'!$I$12/'PDRB JATIM'!$H$12)) -> -6964.7634 | G35: =IF(F35<0,"<",">") -> < | H35: =IF(F35<0,"0","1") -> 0
A38: kategori | B38: sektor | C38: 2016-2017 | D38: </> | E38: SKOR | F38: 2017-2018 | G38: </> | H38: SKOR
A39: A | B39: Pertanian | C39: ='PDRB JATIM'!I3*(('PDRB JATIM'!J3/'PDRB JATIM'!I3)-('PDRB JATIM'!$J$12/'PDRB JATIM'!$I$12)) -> -6396.1139 | D39: =IF(C39<0,"<",">") -> < | E39: =IF(C39<0,"0","1") -> 0 | F39: ='PDRB PASURUAN'!J3*(('PDRB JATIM'!K3/'PDRB JATIM'!J3)-('PDRB JATIM'!$K$12/'PDRB JATIM'!$J$12)) -> -448156.89 | G39: =IF(F39<0,"<",">") -> < | H39: =IF(F39<0,"0","1") -> 0
A40: B | B40: Pertambangan, dan Penggalian | C40: ='PDRB JATIM'!I4*(('PDRB JATIM'!J4/'PDRB JATIM'!I4)-('PDRB JATIM'!$J$12/'PDRB JATIM'!$I$12)) -> 1514.9538 | D40: =IF(C40<0,"<",">") -> > | E40: =IF(C40<0,"0","1") -> 1 | F40: ='PDRB PASURUAN'!J4*(('PDRB JATIM'!K4/'PDRB JATIM'!J4)-('PDRB JATIM'!$K$12/'PDRB JATIM'!$J$12)) -> -15524.538 | G40: =IF(F40<0,"<",">") -> < | H40: =IF(F40<0,"0","1") -> 0
A41: C | B41: Indusri Pengolahan | C41: ='PDRB JATIM'!I5*(('PDRB JATIM'!J5/'PDRB JATIM'!I5)-('PDRB JATIM'!$J$12/'PDRB JATIM'!$I$12)) -> 945.47237 | D41: =IF(C41<0,"<",">") -> > | E41: =IF(C41<0,"0","1") -> 1 | F41: ='PDRB PASURUAN'!J5*(('PDRB JATIM'!K5/'PDRB JATIM'!J5)-('PDRB JATIM'!$K$12/'PDRB JATIM'!$J$12)) -> 1125687.6 | G41: =IF(F41<0,"<",">") -> > | H41: =IF(F41<0,"0","1") -> 1
A42: D | B42: Listrik, Gas, dan Air Bersih | C42: ='PDRB JATIM'!I6*(('PDRB JATIM'!J6/'PDRB JATIM'!I6)-('PDRB JATIM'!$J$12/'PDRB JATIM'!$I$12)) -> -115.87576 | D42: =IF(C42<0,"<",">") -> < | E42: =IF(C42<0,"0","1") -> 0 | F42: ='PDRB PASURUAN'!J6*(('PDRB JATIM'!K6/'PDRB JATIM'!J6)-('PDRB JATIM'!$K$12/'PDRB JATIM'!$J$12)) -> -51091.021 | G42: =IF(F42<0,"<",">") -> < | H42: =IF(F42<0,"0","1") -> 0
A43: E | B43: Kontrksi | C43: ='PDRB JATIM'!I7*(('PDRB JATIM'!J7/'PDRB JATIM'!I7)-('PDRB JATIM'!$J$12/'PDRB JATIM'!$I$12)) -> 1849.0379 | D43: =IF(C43<0,"<",">") -> > | E43: =IF(C43<0,"0","1") -> 1 | F43: ='PDRB PASURUAN'!J7*(('PDRB JATIM'!K7/'PDRB JATIM'!J7)-('PDRB JATIM'!$K$12/'PDRB JATIM'!$J$12)) -> 126267.77 | G43: =IF(F43<0,"<",">") -> > | H43: =IF(F43<0,"0","1") -> 1
A44: F | B44: Perdagangan, hotel dan Restoran | C44: ='PDRB JATIM'!I8*(('PDRB JATIM'!J8/'PDRB JATIM'!I8)-('PDRB JATIM'!$J$12/'PDRB JATIM'!$I$12)) -> 3843.6124 | D44: =IF(C44<0,"<",">") -> > | E44: =IF(C44<0,"0","1") -> 1 | F44: ='PDRB PASURUAN'!J8*(('PDRB JATIM'!K8/'PDRB JATIM'!J8)-('PDRB JATIM'!$K$12/'PDRB JATIM'!$J$12)) -> 140748.57 | G44: =IF(F44<0,"<",">") -> > | H44: =IF(F44<0,"0","1") -> 1
A45: G | B45: Pengangkutan dan Komunikasi | C45: ='PDRB JATIM'!I9*(('PDRB JATIM'!J9/'PDRB JATIM'!I9)-('PDRB JATIM'!$J$12/'PDRB JATIM'!$I$12)) -> 1639.8773 | D45: =IF(C45<0,"<",">") -> > | E45: =IF(C45<0,"0","1") -> 1 | F45: ='PDRB PASURUAN'!J9*(('PDRB JATIM'!K9/'PDRB JATIM'!J9)-('PDRB JATIM'!$K$12/'PDRB JATIM'!$J$12)) -> 43952.69 | G45: =IF(F45<0,"<",">") -> > | H45: =IF(F45<0,"0","1") -> 1
A46: H | B46: Keuangan, Persewaan, dan jasa Persusahan | C46: ='PDRB JATIM'!I10*(('PDRB JATIM'!J10/'PDRB JATIM'!I10)-('PDRB JATIM'!$J$12/'PDRB JATIM'!$I$12)) -> -1492.853 | D46: =IF(C46<0,"<",">") -> < | E46: =IF(C46<0,"0","1") -> 0 | F46: ='PDRB PASURUAN'!J10*(('PDRB JATIM'!K10/'PDRB JATIM'!J10)-('PDRB JATIM'!$K$12/'PDRB JATIM'!$J$12)) -> 1659.6882 | G46: =IF(F46<0,"<",">") -> > | H46: =IF(F46<0,"0","1") -> 1
A47: I | B47: Jasa-Jasa | C47: ='PDRB JATIM'!I11*(('PDRB JATIM'!J11/'PDRB JATIM'!I11)-('PDRB JATIM'!$J$12/'PDRB JATIM'!$I$12)) -> -1788.111 | D47: =IF(C47<0,"<",">") -> < | E47: =IF(C47<0,"0","1") -> 0 | F47: ='PDRB PASURUAN'!J11*(('PDRB JATIM'!K11/'PDRB JATIM'!J11)-('PDRB JATIM'!$K$12/'PDRB JATIM'!$J$12)) -> -9528.4167 | G47: =IF(F47<0,"<",">") -> < | H47: =IF(F47<0,"0","1") -> 0
...

Sheet SS(DS)
A2: kategori | B2: sektor | C2: 2010-2011 | D2: </> | E2: SKOR | F2: 2011-2012 | G2: </> | H2: SKOR
A3: A | B3: Pertanian | C3: ='PDRB PASURUAN'!C3*(('PDRB PASURUAN'!D3/'PDRB PASURUAN'!C3)-('PDRB JATIM'!D3/'PDRB JATIM'!C3)) -> 41276.077 | D3: =IF(C3<0,"<",">") -> > | E3: =IF(C3<0,"0","1") -> 1 | F3: ='PDRB PASURUAN'!D3*(('PDRB PASURUAN'!E3/'PDRB PASURUAN'!D3)-('PDRB JATIM'!E3/'PDRB JATIM'!D3)) -> 7920.708 | G3: =IF(F3<0,"<",">") -> > | H3: =IF(F3<0,"0","1") -> 1
A4: B | B4: Pertambangan, dan Penggalian | C4: ='PDRB PASURUAN'!C4*(('PDRB PASURUAN'!D4/'PDRB PASURUAN'!C4)-('PDRB JATIM'!D4/'PDRB JATIM'!C4)) -> -20231.915 | D4: =IF(C4<0,"<",">") -> < | E4: =IF(C4<0,"0","1") -> 0 | F4: ='PDRB PASURUAN'!D4*(('PDRB PASURUAN'!E4/'PDRB PASURUAN'!D4)-('PDRB JATIM'!E4/'PDRB JATIM'!D4)) -> 3036.773 | G4: =IF(F4<0,"<",">") -> > | H4: =IF(F4<0,"0","1") -> 1
A5: C | B5: Indusri Pengolahan | C5: ='PDRB PASURUAN'!C5*(('PDRB PASURUAN'!D5/'PDRB PASURUAN'!C5)-('PDRB JATIM'!D5/'PDRB JATIM'!C5)) -> 778079.97 | D5: =IF(C5<0,"<",">") -> > | E5: =IF(C5<0,"0","1") -> 1 | F5: ='PDRB PASURUAN'!D5*(('PDRB PASURUAN'!E5/'PDRB PASURUAN'!D5)-('PDRB JATIM'!E5/'PDRB JATIM'!D5)) -> 650098 | G5: =IF(F5<0,"<",">") -> > | H5: =IF(F5<0,"0","1") -> 1
A6: D | B6: Listrik, Gas, dan Air Bersih | C6: ='PDRB PASURUAN'!C6*(('PDRB PASURUAN'!D6/'PDRB PASURUAN'!C6)-('PDRB JATIM'!D6/'PDRB JATIM'!C6)) -> -41144.299 | D6: =IF(C6<0,"<",">") -> < | E6: =IF(C6<0,"0","1") -> 0 | F6: ='PDRB PASURUAN'!D6*(('PDRB PASURUAN'!E6/'PDRB PASURUAN'!D6)-('PDRB JATIM'!E6/'PDRB JATIM'!D6)) -> -69174.689 | G6: =IF(F6<0,"<",">") -> < | H6: =IF(F6<0,"0","1") -> 0
A7: E | B7: Kontrksi | C7: ='PDRB PASURUAN'!C7*(('PDRB PASURUAN'!D7/'PDRB PASURUAN'!C7)-('PDRB JATIM'!D7/'PDRB JATIM'!C7)) -> 78927.247 | D7: =IF(C7<0,"<",">") -> > | E7: =IF(C7<0,"0","1") -> 1 | F7: ='PDRB PASURUAN'!D7*(('PDRB PASURUAN'!E7/'PDRB PASURUAN'!D7)-('PDRB JATIM'!E7/'PDRB JATIM'!D7)) -> -21305.411 | G7: =IF(F7<0,"<",">") -> < | H7: =IF(F7<0,"0","1") -> 0
A8: F | B8: Perdagangan, hotel dan Restoran | C8: ='PDRB PASURUAN'!C8*(('PDRB PASURUAN'!D8/'PDRB PASURUAN'!C8)-('PDRB JATIM'!D8/'PDRB JATIM'!C8)) -> -123698.8 | D8: =IF(C8<0,"<",">") -> < | E8: =IF(C8<0,"0","1") -> 0 | F8: ='PDRB PASURUAN'!D8*(('PDRB PASURUAN'!E8/'PDRB PASURUAN'!D8)-('PDRB JATIM'!E8/'PDRB JATIM'!D8)) -> -99120.008 | G8: =IF(F8<0,"<",">") -> < | H8: =IF(F8<0,"0","1") -> 0
A9: G | B9: Pengangkutan dan Komunikasi | C9: ='PDRB PASURUAN'!C9*(('PDRB PASURUAN'!D9/'PDRB PASURUAN'!C9)-('PDRB JATIM'!D9/'PDRB JATIM'!C9)) -> -8274.0292 | D9: =IF(C9<0,"<",">") -> < | E9: =IF(C9<0,"0","1") -> 0 | F9: ='PDRB PASURUAN'!D9*(('PDRB PASURUAN'!E9/'PDRB PASURUAN'!D9)-('PDRB JATIM'!E9/'PDRB JATIM'!D9)) -> 24170.254 | G9: =IF(F9<0,"<",">") -> > | H9: =IF(F9<0,"0","1") -> 1
A10: H | B10: Keuangan, Persewaan, dan jasa Persusahan | C10: ='PDRB PASURUAN'!C10*(('PDRB PASURUAN'!D10/'PDRB PASURUAN'!C10)-('PDRB JATIM'!D10/'PDRB JATIM'!C10)) -> 12069.438 | D10: =IF(C10<0,"<",">") -> > | E10: =IF(C10<0,"0","1") -> 1 | F10: ='PDRB PASURUAN'!D10*(('PDRB PASURUAN'!E10/'PDRB PASURUAN'!D10)-('PDRB JATIM'!E10/'PDRB JATIM'!D10)) -> 8750.6744 | G10: =IF(F10<0,"<",">") -> > | H10: =IF(F10<0,"0","1") -> 1
A11: I | B11: Jasa-Jasa | C11: ='PDRB PASURUAN'!C11*(('PDRB PASURUAN'!D11/'PDRB PASURUAN'!C11)-('PDRB JATIM'!D11/'PDRB JATIM'!C11)) -> -27685.704 | D11: =IF(C11<0,"<",">") -> < | E11: =IF(C11<0,"0","1") -> 0 | F11: ='PDRB PASURUAN'!D11*(('PDRB PASURUAN'!E11/'PDRB PASURUAN'!D11)-('PDRB JATIM'!E11/'PDRB JATIM'!D11)) -> -32383.929 | G11: =IF(F11<0,"<",">") -> < | H11: =IF(F11<0,"0","1") -> 0
A14: kategori | B14: sektor | C14: 2012-2013 | D14: </> | E14: SKOR | F14: 2013-2014 | G14: </> | H14: SKOR
A15: A | B15: Pertanian | C15: ='PDRB PASURUAN'!E3*(('PDRB PASURUAN'!F3/'PDRB PASURUAN'!E3)-('PDRB JATIM'!E3/'PDRB JATIM'!F3)) -> 280627.12 | D15: =IF(C15<0,"<",">") -> > | E15: =IF(C15<0,"0","1") -> 1 | F15: ='PDRB PASURUAN'!F3*(('PDRB PASURUAN'!G3/'PDRB PASURUAN'!F3)-('PDRB JATIM'!G3/'PDRB JATIM'!F3)) -> 376.71234 | G15: =IF(F15<0,"<",">") -> > | H15: =IF(F15<0,"0","1") -> 1
A16: B | B16: Pertambangan, dan Penggalian | C16: ='PDRB PASURUAN'!E4*(('PDRB PASURUAN'!F4/'PDRB PASURUAN'!E4)-('PDRB JATIM'!E4/'PDRB JATIM'!F4)) -> 13254.914 | D16: =IF(C16<0,"<",">") -> > | E16: =IF(C16<0,"0","1") -> 1 | F16: ='PDRB PASURUAN'!F4*(('PDRB PASURUAN'!G4/'PDRB PASURUAN'!F4)-('PDRB JATIM'!G4/'PDRB JATIM'!F4)) -> -6303.3211 | G16: =IF(F16<0,"<",">") -> < | H16: =IF(F16<0,"0","1") -> 0
A17: C | B17: Indusri Pengolahan | C17: ='PDRB PASURUAN'!E5*(('PDRB PASURUAN'!F5/'PDRB PASURUAN'!E5)-('PDRB JATIM'!E5/'PDRB JATIM'!F5)) -> 5055306.8 | D17: =IF(C17<0,"<",">") -> > | E17: =IF(C17<0,"0","1") -> 1 | F17: ='PDRB PASURUAN'!F5*(('PDRB PASURUAN'!G5/'PDRB PASURUAN'!F5)-('PDRB JATIM'!G5/'PDRB JATIM'!F5)) -> 207117.99 | G17: =IF(F17<0,"<",">") -> > | H17: =IF(F17<0,"0","1") -> 1
A18: D | B18: Listrik, Gas, dan Air Bersih | C18: ='PDRB PASURUAN'!E6*(('PDRB PASURUAN'!F6/'PDRB PASURUAN'!E6)-('PDRB JATIM'!E6/'PDRB JATIM'!F6)) -> 37363.857 | D18: =IF(C18<0,"<",">") -> > | E18: =IF(C18<0,"0","1") -> 1 | F18: ='PDRB PASURUAN'!F6*(('PDRB PASURUAN'!G6/'PDRB PASURUAN'!F6)-('PDRB JATIM'!G6/'PDRB JATIM'!F6)) -> 20884.275 | G18: =IF(F18<0,"<",">") -> > | H18: =IF(F18<0,"0","1") -> 1
A19: E | B19: Kontrksi | C19: ='PDRB PASURUAN'!E7*(('PDRB PASURUAN'!F7/'PDRB PASURUAN'!E7)-('PDRB JATIM'!E7/'PDRB JATIM'!F7)) -> 1443224.8 | D19: =IF(C19<0,"<",">") -> > | E19: =IF(C19<0,"0","1") -> 1 | F19: ='PDRB PASURUAN'!F7*(('PDRB PASURUAN'!G7/'PDRB PASURUAN'!F7)-('PDRB JATIM'!G7/'PDRB JATIM'!F7)) -> -11433.934 | G19: =IF(F19<0,"<",">") -> < | H19: =IF(F19<0,"0","1") -> 0
A20: F | B20: Perdagangan, hotel dan Restoran | C20: ='PDRB PASURUAN'!E8*(('PDRB PASURUAN'!F8/'PDRB PASURUAN'!E8)-('PDRB JATIM'!E8/'PDRB JATIM'!F8)) -> 1099618.1 | D20: =IF(C20<0,"<",">") -> > | E20: =IF(C20<0,"0","1") -> 1 | F20: ='PDRB PASURUAN'!F8*(('PDRB PASURUAN'!G8/'PDRB PASURUAN'!F8)-('PDRB JATIM'!G8/'PDRB JATIM'!F8)) -> -43167.791 | G20: =IF(F20<0,"<",">") -> < | H20: =IF(F20<0,"0","1") -> 0
A21: G | B21: Pengangkutan dan Komunikasi | C21: ='PDRB PASURUAN'!E9*(('PDRB PASURUAN'!F9/'PDRB PASURUAN'!E9)-('PDRB JATIM'!E9/'PDRB JATIM'!F9)) -> 548570.87 | D21: =IF(C21<0,"<",">") -> > | E21: =IF(C21<0,"0","1") -> 1 | F21: ='PDRB PASURUAN'!F9*(('PDRB PASURUAN'!G9/'PDRB PASURUAN'!F9)-('PDRB JATIM'!G9/'PDRB JATIM'!F9)) -> -24314.824 | G21: =IF(F21<0,"<",">") -> < | H21: =IF(F21<0,"0","1") -> 0
A22: H | B22: Keuangan, Persewaan, dan jasa Persusahan | C22: ='PDRB PASURUAN'!E10*(('PDRB PASURUAN'!F10/'PDRB PASURUAN'!E10)-('PDRB JATIM'!E10/'PDRB JATIM'!F10)) -> 237386.91 | D22: =IF(C22<0,"<",">") -> > | E22: =IF(C22<0,"0","1") -> 1 | F22: ='PDRB PASURUAN'!F10*(('PDRB PASURUAN'!G10/'PDRB PASURUAN'!F10)-('PDRB JATIM'!G10/'PDRB JATIM'!F10)) -> -10671.914 | G22: =IF(F22<0,"<",">") -> < | H22: =IF(F22<0,"0","1") -> 0
A23: I | B23: Jasa-Jasa | C23: ='PDRB PASURUAN'!E11*(('PDRB PASURUAN'!F11/'PDRB PASURUAN'!E11)-('PDRB JATIM'!E11/'PDRB JATIM'!F11)) -> 204361.57 | D23: =IF(C23<0,"<",">") -> > | E23: =IF(C23<0,"0","1") -> 1 | F23: ='PDRB PASURUAN'!F11*(('PDRB PASURUAN'!G11/'PDRB PASURUAN'!F11)-('PDRB JATIM'!G11/'PDRB JATIM'!F11)) -> -19577.557 | G23: =IF(F23<0,"<",">") -> < | H23: =IF(F23<0,"0","1") -> 0
A26: kategori | B26: sektor | C26: 2014-2015 | D26: </> | E26: SKOR | F26: 2015-2016 | G26: </> | H26: SKOR
A27: A | B27: Pertanian | C27: ='PDRB PASURUAN'!G3*(('PDRB PASURUAN'!H3/'PDRB PASURUAN'!G3)-('PDRB JATIM'!H3/'PDRB JATIM'!G3)) -> -5364.8469 | D27: =IF(C27<0,"<",">") -> < | E27: =IF(C27<0,"0","1") -> 0 | F27: ='PDRB PASURUAN'!H3*(('PDRB PASURUAN'!I3/'PDRB PASURUAN'!H3)-('PDRB JATIM'!I3/'PDRB JATIM'!H3)) -> 56000.674 | G27: =IF(F27<0,"<",">") -> > | H27: =IF(F27<0,"0","1") -> 1
A28: B | B28: Pertambangan, dan Penggalian | C28: ='PDRB PASURUAN'!G4*(('PDRB PASURUAN'!H4/'PDRB PASURUAN'!G4)-('PDRB JATIM'!H4/'PDRB JATIM'!G4)) -> -29595.225 | D28: =IF(C28<0,"<",">") -> < | E28: =IF(C28<0,"0","1") -> 0 | F28: ='PDRB PASURUAN'!H4*(('PDRB PASURUAN'!I4/'PDRB PASURUAN'!H4)-('PDRB JATIM'!I4/'PDRB JATIM'!H4)) -> -57082.315 | G28: =IF(F28<0,"<",">") -> < | H28: =IF(F28<0,"0","1") -> 0
A29: C | B29: Indusri Pengolahan | C29: ='PDRB PASURUAN'!G5*(('PDRB PASURUAN'!H5/'PDRB PASURUAN'!G5)-('PDRB JATIM'!H5/'PDRB JATIM'!G5)) -> 395556.49 | D29: =IF(C29<0,"<",">") -> > | E29: =IF(C29<0,"0","1") -> 1 | F29: ='PDRB PASURUAN'!H5*(('PDRB PASURUAN'!I5/'PDRB PASURUAN'!H5)-('PDRB JATIM'!I5/'PDRB JATIM'!H5)) -> 678881.73 | G29: =IF(F29<0,"<",">") -> > | H29: =IF(F29<0,"0","1") -> 1
A30: D | B30: Listrik, Gas, dan Air Bersih | C30: ='PDRB PASURUAN'!G6*(('PDRB PASURUAN'!H6/'PDRB PASURUAN'!G6)-('PDRB JATIM'!H6/'PDRB JATIM'!G6)) -> 51231.47 | D30: =IF(C30<0,"<",">") -> > | E30: =IF(C30<0,"0","1") -> 1 | F30: ='PDRB PASURUAN'!H6*(('PDRB PASURUAN'!I6/'PDRB PASURUAN'!H6)-('PDRB JATIM'!I6/'PDRB JATIM'!H6)) -> -8699.8484 | G30: =IF(F30<0,"<",">") -> < | H30: =IF(F30<0,"0","1") -> 0
A31: E | B31: Kontrksi | C31: ='PDRB PASURUAN'!G7*(('PDRB PASURUAN'!H7/'PDRB PASURUAN'!G7)-('PDRB JATIM'!H7/'PDRB JATIM'!G7)) -> -249846.18 | D31: =IF(C31<0,"<",">") -> < | E31: =IF(C31<0,"0","1") -> 0 | F31: ='PDRB PASURUAN'!H7*(('PDRB PASURUAN'!I7/'PDRB PASURUAN'!H7)-('PDRB JATIM'!I7/'PDRB JATIM'!H7)) -> -364730.65 | G31: =IF(F31<0,"<",">") -> < | H31: =IF(F31<0,"0","1") -> 0
A32: F | B32: Perdagangan, hotel dan Restoran | C32: ='PDRB PASURUAN'!G8*(('PDRB PASURUAN'!H8/'PDRB PASURUAN'!G8)-('PDRB JATIM'!H8/'PDRB JATIM'!G8)) -> 8259.3328 | D32: =IF(C32<0,"<",">") -> > | E32: =IF(C32<0,"0","1") -> 1 | F32: ='PDRB PASURUAN'!H8*(('PDRB PASURUAN'!I8/'PDRB PASURUAN'!H8)-('PDRB JATIM'!I8/'PDRB JATIM'!H8)) -> 124540.38 | G32: =IF(F32<0,"<",">") -> > | H32: =IF(F32<0,"0","1") -> 1
A33: G | B33: Pengangkutan dan Komunikasi | C33: ='PDRB PASURUAN'!G9*(('PDRB PASURUAN'!H9/'PDRB PASURUAN'!G9)-('PDRB JATIM'!H9/'PDRB JATIM'!G9)) -> -44625.034 | D33: =IF(C33<0,"<",">") -> < | E33: =IF(C33<0,"0","1") -> 0 | F33: ='PDRB PASURUAN'!H9*(('PDRB PASURUAN'!I9/'PDRB PASURUAN'!H9)-('PDRB JATIM'!I9/'PDRB JATIM'!H9)) -> 39821.132 | G33: =IF(F33<0,"<",">") -> > | H33: =IF(F33<0,"0","1") -> 1
A34: H | B34: Keuangan, Persewaan, dan jasa Persusahan | C34: ='PDRB PASURUAN'!G10*(('PDRB PASURUAN'!H10/'PDRB PASURUAN'!G10)-('PDRB JATIM'!H10/'PDRB JATIM'!G10)) -> -13015.559 | D34: =IF(C34<0,"<",">") -> < | E34: =IF(C34<0,"0","1") -> 0 | F34: ='PDRB PASURUAN'!H10*(('PDRB PASURUAN'!I10/'PDRB PASURUAN'!H10)-('PDRB JATIM'!I10/'PDRB JATIM'!H10)) -> 9384.0847 | G34: =IF(F34<0,"<",">") -> > | H34: =IF(F34<0,"0","1") -> 1
A35: I | B35: Jasa-Jasa | C35: ='PDRB PASURUAN'!G11*(('PDRB PASURUAN'!H11/'PDRB PASURUAN'!G11)-('PDRB JATIM'!H11/'PDRB JATIM'!G11)) -> -16996.485 | D35: =IF(C35<0,"<",">") -> < | E35: =IF(C35<0,"0","1") -> 0 | F35: ='PDRB PASURUAN'!H11*(('PDRB PASURUAN'!I11/'PDRB PASURUAN'!H11)-('PDRB JATIM'!I11/'PDRB JATIM'!H11)) -> 9429.728 | G35: =IF(F35<0,"<",">") -> > | H35: =IF(F35<0,"0","1") -> 1
A38: kategori | B38: sektor | C38: 2016-2017 | D38: </> | E38: SKOR | F38: 2017-2018 | G38: </> | H38: SKOR
A39: A | B39: Pertanian | C39: ='PDRB PASURUAN'!I3*(('PDRB PASURUAN'!J3/'PDRB PASURUAN'!I3)-('PDRB JATIM'!J3/'PDRB JATIM'!I3)) -> -28822.578 | D39: =IF(C39<0,"<",">") -> < | E39: =IF(C39<0,"0","1") -> 0 | F39: ='PDRB PASURUAN'!J3*(('PDRB PASURUAN'!K3/'PDRB PASURUAN'!J3)-('PDRB JATIM'!K3/'PDRB JATIM'!J3)) -> 38642.439 | G39: =IF(F39<0,"<",">") -> > | H39: =IF(F39<0,"0","1") -> 1
A40: B | B40: Pertambangan, dan Penggalian | C40: ='PDRB PASURUAN'!I4*(('PDRB PASURUAN'!J4/'PDRB PASURUAN'!I4)-('PDRB JATIM'!J4/'PDRB JATIM'!I4)) -> -16800.278 | D40: =IF(C40<0,"<",">") -> < | E40: =IF(C40<0,"0","1") -> 0 | F40: ='PDRB PASURUAN'!J4*(('PDRB PASURUAN'!K4/'PDRB PASURUAN'!J4)-('PDRB JATIM'!K4/'PDRB JATIM'!J4)) -> 341.0977 | G40: =IF(F40<0,"<",">") -> > | H40: =IF(F40<0,"0","1") -> 1
A41: C | B41: Indusri Pengolahan | C41: ='PDRB PASURUAN'!I5*(('PDRB PASURUAN'!J5/'PDRB PASURUAN'!I5)-('PDRB JATIM'!J5/'PDRB JATIM'!I5)) -> 9276.1695 | D41: =IF(C41<0,"<",">") -> > | E41: =IF(C41<0,"0","1") -> 1 | F41: ='PDRB PASURUAN'!J5*(('PDRB PASURUAN'!K5/'PDRB PASURUAN'!J5)-('PDRB JATIM'!K5/'PDRB JATIM'!J5)) -> -454704.97 | G41: =IF(F41<0,"<",">") -> < | H41: =IF(F41<0,"0","1") -> 0
A42: D | B42: Listrik, Gas, dan Air Bersih | C42: ='PDRB PASURUAN'!I6*(('PDRB PASURUAN'!J6/'PDRB PASURUAN'!I6)-('PDRB JATIM'!J6/'PDRB JATIM'!I6)) -> -15185.838 | D42: =IF(C42<0,"<",">") -> < | E42: =IF(C42<0,"0","1") -> 0 | F42: ='PDRB PASURUAN'!J6*(('PDRB PASURUAN'!K6/'PDRB PASURUAN'!J6)-('PDRB JATIM'!K6/'PDRB JATIM'!J6)) -> -21579.361 | G42: =IF(F42<0,"<",">") -> < | H42: =IF(F42<0,"0","1") -> 0
A43: E | B43: Kontrksi | C43: ='PDRB PASURUAN'!I7*(('PDRB PASURUAN'!J7/'PDRB PASURUAN'!I7)-('PDRB JATIM'!J7/'PDRB JATIM'!I7)) -> -43740.193 | D43: =IF(C43<0,"<",">") -> < | E43: =IF(C43<0,"0","1") -> 0 | F43: ='PDRB PASURUAN'!J7*(('PDRB PASURUAN'!K7/'PDRB PASURUAN'!J7)-('PDRB JATIM'!K7/'PDRB JATIM'!J7)) -> -148428.73 | G43: =IF(F43<0,"<",">") -> < | H43: =IF(F43<0,"0","1") -> 0
A44: F | B44: Perdagangan, hotel dan Restoran | C44: ='PDRB PASURUAN'!I8*(('PDRB PASURUAN'!J8/'PDRB PASURUAN'!I8)-('PDRB JATIM'!J8/'PDRB JATIM'!I8)) -> 135420.55 | D44: =IF(C44<0,"<",">") -> > | E44: =IF(C44<0,"0","1") -> 1 | F44: ='PDRB PASURUAN'!J8*(('PDRB PASURUAN'!K8/'PDRB PASURUAN'!J8)-('PDRB JATIM'!K8/'PDRB JATIM'!J8)) -> -10508.818 | G44: =IF(F44<0,"<",">") -> < | H44: =IF(F44<0,"0","1") -> 0
